BEGIN:VCALENDAR
VERSION:2.0
PRODID:-//The Wealden Business Group - ECPv6.15.20//NONSGML v1.0//EN
CALSCALE:GREGORIAN
METHOD:PUBLISH
X-WR-CALNAME:The Wealden Business Group
X-ORIGINAL-URL:https://wealdenbusinessgroup.co.uk
X-WR-CALDESC:Events for The Wealden Business Group
REFRESH-INTERVAL;VALUE=DURATION:PT1H
X-Robots-Tag:noindex
X-PUBLISHED-TTL:PT1H
BEGIN:VTIMEZONE
TZID:UTC
BEGIN:STANDARD
TZOFFSETFROM:+0000
TZOFFSETTO:+0000
TZNAME:UTC
DTSTART:20210101T000000
END:STANDARD
END:VTIMEZONE
BEGIN:VEVENT
DTSTART;TZID=UTC:20220727T070000
DTEND;TZID=UTC:20220727T083000
DTSTAMP:20260423T043928
CREATED:20220722T140541Z
LAST-MODIFIED:20220722T140550Z
UID:2924-1658905200-1658910600@wealdenbusinessgroup.co.uk
SUMMARY:WBG Weekly Meeting
DESCRIPTION:Speaker – To Be Confirmed
URL:https://wealdenbusinessgroup.co.uk/event/wbg-weekly-meeting/
LOCATION:The White Lion\, High St\, Tenterden\, Kent\, TN30 6BD\, United Kingdom
END:VEVENT
BEGIN:VEVENT
DTSTART;TZID=UTC:20220914T070000
DTEND;TZID=UTC:20220914T083000
DTSTAMP:20260423T043928
CREATED:20221012T165246Z
LAST-MODIFIED:20221012T172907Z
UID:2967-1663138800-1663144200@wealdenbusinessgroup.co.uk
SUMMARY:David Kemp – Proprietor of The Little Silver Country Hotel
DESCRIPTION:Speaker – David Kemp – Proprietor of The Little Silver Country Hotel
URL:https://wealdenbusinessgroup.co.uk/event/david-kemp-proprietor-of-the-little-silver-country-hotel/
LOCATION:The White Lion\, High St\, Tenterden\, Kent\, TN30 6BD\, United Kingdom
CATEGORIES:Weekly Meeting
END:VEVENT
END:VCALENDAR