BEGIN:VCALENDAR
VERSION:2.0
PRODID:-//The Wealden Business Group - ECPv6.15.20//NONSGML v1.0//EN
CALSCALE:GREGORIAN
METHOD:PUBLISH
X-WR-CALNAME:The Wealden Business Group
X-ORIGINAL-URL:https://wealdenbusinessgroup.co.uk
X-WR-CALDESC:Events for The Wealden Business Group
REFRESH-INTERVAL;VALUE=DURATION:PT1H
X-Robots-Tag:noindex
X-PUBLISHED-TTL:PT1H
BEGIN:VTIMEZONE
TZID:UTC
BEGIN:STANDARD
TZOFFSETFROM:+0000
TZOFFSETTO:+0000
TZNAME:UTC
DTSTART:20210101T000000
END:STANDARD
END:VTIMEZONE
BEGIN:VEVENT
DTSTART;TZID=UTC:20221221T070000
DTEND;TZID=UTC:20221221T083000
DTSTAMP:20260423T005630
CREATED:20221128T141244Z
LAST-MODIFIED:20221128T141305Z
UID:3115-1671606000-1671611400@wealdenbusinessgroup.co.uk
SUMMARY:Christmas breakfast meeting
DESCRIPTION:There will be no speaker for the Christmas breakfast meeting.
URL:https://wealdenbusinessgroup.co.uk/event/christmas-breakfast-meeting/
LOCATION:The White Lion\, High St\, Tenterden\, Kent\, TN30 6BD\, United Kingdom
CATEGORIES:Weekly Meeting
END:VEVENT
END:VCALENDAR