BEGIN:VCALENDAR
VERSION:2.0
PRODID:-//The Wealden Business Group - ECPv6.15.20//NONSGML v1.0//EN
CALSCALE:GREGORIAN
METHOD:PUBLISH
X-WR-CALNAME:The Wealden Business Group
X-ORIGINAL-URL:https://wealdenbusinessgroup.co.uk
X-WR-CALDESC:Events for The Wealden Business Group
REFRESH-INTERVAL;VALUE=DURATION:PT1H
X-Robots-Tag:noindex
X-PUBLISHED-TTL:PT1H
BEGIN:VTIMEZONE
TZID:UTC
BEGIN:STANDARD
TZOFFSETFROM:+0000
TZOFFSETTO:+0000
TZNAME:UTC
DTSTART:20220101T000000
END:STANDARD
END:VTIMEZONE
BEGIN:VEVENT
DTSTART;TZID=UTC:20230104T070000
DTEND;TZID=UTC:20230104T083000
DTSTAMP:20260422T233428
CREATED:20221128T144107Z
LAST-MODIFIED:20221214T094006Z
UID:3119-1672815600-1672821000@wealdenbusinessgroup.co.uk
SUMMARY:Paul Andrews – Business Bunker Radio
DESCRIPTION:Speaker – Paul Andrews – Principal at Business Bunker Radio \n\n\n\nPaul is a Kent based businessman and former ‘Entrepreneur of the Year’.  Actively involved in the community especially higher education and local regeneration.
URL:https://wealdenbusinessgroup.co.uk/event/paul-andrews-business-bunker-radio/
LOCATION:The White Lion\, High St\, Tenterden\, Kent\, TN30 6BD\, United Kingdom
CATEGORIES:Weekly Meeting
END:VEVENT
END:VCALENDAR