BEGIN:VCALENDAR
VERSION:2.0
PRODID:-//The Wealden Business Group - ECPv6.15.20//NONSGML v1.0//EN
CALSCALE:GREGORIAN
METHOD:PUBLISH
X-ORIGINAL-URL:https://wealdenbusinessgroup.co.uk
X-WR-CALDESC:Events for The Wealden Business Group
REFRESH-INTERVAL;VALUE=DURATION:PT1H
X-Robots-Tag:noindex
X-PUBLISHED-TTL:PT1H
BEGIN:VTIMEZONE
TZID:UTC
BEGIN:STANDARD
TZOFFSETFROM:+0000
TZOFFSETTO:+0000
TZNAME:UTC
DTSTART:20220101T000000
END:STANDARD
END:VTIMEZONE
BEGIN:VEVENT
DTSTART;TZID=UTC:20230111T070000
DTEND;TZID=UTC:20230111T083000
DTSTAMP:20260422T233522
CREATED:20221128T144717Z
LAST-MODIFIED:20221214T094210Z
UID:3121-1673420400-1673425800@wealdenbusinessgroup.co.uk
SUMMARY:Victoria Carmichael – Manager at CARM
DESCRIPTION:Speaker – Victoria Carmichael – Manager at CARM- Romney Marsh
URL:https://wealdenbusinessgroup.co.uk/event/victoria-carmichael-manager-at-carm/
LOCATION:The White Lion\, High St\, Tenterden\, Kent\, TN30 6BD\, United Kingdom
CATEGORIES:Weekly Meeting
END:VEVENT
END:VCALENDAR