BEGIN:VCALENDAR
VERSION:2.0
PRODID:-//The Wealden Business Group - ECPv6.15.20//NONSGML v1.0//EN
CALSCALE:GREGORIAN
METHOD:PUBLISH
X-WR-CALNAME:The Wealden Business Group
X-ORIGINAL-URL:https://wealdenbusinessgroup.co.uk
X-WR-CALDESC:Events for The Wealden Business Group
REFRESH-INTERVAL;VALUE=DURATION:PT1H
X-Robots-Tag:noindex
X-PUBLISHED-TTL:PT1H
BEGIN:VTIMEZONE
TZID:UTC
BEGIN:STANDARD
TZOFFSETFROM:+0000
TZOFFSETTO:+0000
TZNAME:UTC
DTSTART:20220101T000000
END:STANDARD
END:VTIMEZONE
BEGIN:VEVENT
DTSTART;TZID=UTC:20230315T070000
DTEND;TZID=UTC:20230315T083000
DTSTAMP:20260422T220942
CREATED:20230223T154644Z
LAST-MODIFIED:20230313T082828Z
UID:3175-1678863600-1678869000@wealdenbusinessgroup.co.uk
SUMMARY:Bill Dane – Agent at EXP UK
DESCRIPTION:Speaker – Bill Dane – Agent at EXP UK \n\n\n\nEXP UK considered one of the fastest growing estate agency business in the history of the world\, due to its approach to estate agency and the autonomy it gives to its agents to provide a service\, which is personalised to you.
URL:https://wealdenbusinessgroup.co.uk/event/bill-dale-agent-at-exp-uk/
LOCATION:The White Lion\, High St\, Tenterden\, Kent\, TN30 6BD\, United Kingdom
CATEGORIES:Weekly Meeting
END:VEVENT
END:VCALENDAR