BEGIN:VCALENDAR
VERSION:2.0
PRODID:-//The Wealden Business Group - ECPv6.15.20//NONSGML v1.0//EN
CALSCALE:GREGORIAN
METHOD:PUBLISH
X-ORIGINAL-URL:https://wealdenbusinessgroup.co.uk
X-WR-CALDESC:Events for The Wealden Business Group
REFRESH-INTERVAL;VALUE=DURATION:PT1H
X-Robots-Tag:noindex
X-PUBLISHED-TTL:PT1H
BEGIN:VTIMEZONE
TZID:UTC
BEGIN:STANDARD
TZOFFSETFROM:+0000
TZOFFSETTO:+0000
TZNAME:UTC
DTSTART:20220101T000000
END:STANDARD
END:VTIMEZONE
BEGIN:VEVENT
DTSTART;TZID=UTC:20230419T070000
DTEND;TZID=UTC:20230419T083000
DTSTAMP:20260422T193522
CREATED:20230417T075234Z
LAST-MODIFIED:20230417T075246Z
UID:3180-1681887600-1681893000@wealdenbusinessgroup.co.uk
SUMMARY:Why do we need mental health and suicide first aid
DESCRIPTION:Speaker – Bronwyn Rich – Mental Health Specialist This Way Up Wellbeing \n\n\n\nEstablished and accomplished Adult and Youth Mental Health and Suicide First Aid Instructor\, delivering training on suicide prevention for children\, young people\, and adults\, delivering on stress management\, toxic stress reduction. \n\n\n\nBronwyn’s presentation is “Why do we need mental health and suicide first aid” what problem does it solve.
URL:https://wealdenbusinessgroup.co.uk/event/why-do-we-need-mental-health-and-suicide-first-aid/
LOCATION:The White Lion\, High St\, Tenterden\, Kent\, TN30 6BD\, United Kingdom
CATEGORIES:Weekly Meeting
END:VEVENT
END:VCALENDAR