BEGIN:VCALENDAR
VERSION:2.0
PRODID:-//The Wealden Business Group - ECPv6.15.20//NONSGML v1.0//EN
CALSCALE:GREGORIAN
METHOD:PUBLISH
X-ORIGINAL-URL:https://wealdenbusinessgroup.co.uk
X-WR-CALDESC:Events for The Wealden Business Group
REFRESH-INTERVAL;VALUE=DURATION:PT1H
X-Robots-Tag:noindex
X-PUBLISHED-TTL:PT1H
BEGIN:VTIMEZONE
TZID:Europe/London
BEGIN:DAYLIGHT
TZOFFSETFROM:+0000
TZOFFSETTO:+0100
TZNAME:BST
DTSTART:20220327T010000
END:DAYLIGHT
BEGIN:STANDARD
TZOFFSETFROM:+0100
TZOFFSETTO:+0000
TZNAME:GMT
DTSTART:20221030T010000
END:STANDARD
BEGIN:DAYLIGHT
TZOFFSETFROM:+0000
TZOFFSETTO:+0100
TZNAME:BST
DTSTART:20230326T010000
END:DAYLIGHT
BEGIN:STANDARD
TZOFFSETFROM:+0100
TZOFFSETTO:+0000
TZNAME:GMT
DTSTART:20231029T010000
END:STANDARD
BEGIN:DAYLIGHT
TZOFFSETFROM:+0000
TZOFFSETTO:+0100
TZNAME:BST
DTSTART:20240331T010000
END:DAYLIGHT
BEGIN:STANDARD
TZOFFSETFROM:+0100
TZOFFSETTO:+0000
TZNAME:GMT
DTSTART:20241027T010000
END:STANDARD
END:VTIMEZONE
BEGIN:VEVENT
DTSTART;TZID=Europe/London:20230809T070000
DTEND;TZID=Europe/London:20230809T083000
DTSTAMP:20260422T135751
CREATED:20230717T104501Z
LAST-MODIFIED:20230807T111724Z
UID:3279-1691564400-1691569800@wealdenbusinessgroup.co.uk
SUMMARY:David Meredith - Busbys Chartered Accountants
DESCRIPTION:Busbys Chartered Accountants in Kent where the client always comes first. Amid all the changes in the business world in recent years\, one thing has remained unchanged – their commitment to their clients. \n\n\n\nAt Busbys they believe the client comes first\, and they strive in every respect to meet your needs and expectations. Whether it is traditional tax and accounting services or proactive business advisory services\, your personal Self Assessment return or your company’s strategic business plan\, David and his team approach the task with the precision and dedication you would expect from an established and highly trusted firm. Busbys are an independent professional firm offering a personal service and advice to both business and individuals in and around Kent\, including Central London and the Home Counties.
URL:https://wealdenbusinessgroup.co.uk/event/david-meredith-busbys-chartered-accountants-2/
LOCATION:The White Lion\, High St\, Tenterden\, Kent\, TN30 6BD\, United Kingdom
CATEGORIES:Weekly Meeting
END:VEVENT
END:VCALENDAR