BEGIN:VCALENDAR
VERSION:2.0
PRODID:-//The Wealden Business Group - ECPv6.15.20//NONSGML v1.0//EN
CALSCALE:GREGORIAN
METHOD:PUBLISH
X-ORIGINAL-URL:https://wealdenbusinessgroup.co.uk
X-WR-CALDESC:Events for The Wealden Business Group
REFRESH-INTERVAL;VALUE=DURATION:PT1H
X-Robots-Tag:noindex
X-PUBLISHED-TTL:PT1H
BEGIN:VTIMEZONE
TZID:Europe/London
BEGIN:DAYLIGHT
TZOFFSETFROM:+0000
TZOFFSETTO:+0100
TZNAME:BST
DTSTART:20220327T010000
END:DAYLIGHT
BEGIN:STANDARD
TZOFFSETFROM:+0100
TZOFFSETTO:+0000
TZNAME:GMT
DTSTART:20221030T010000
END:STANDARD
BEGIN:DAYLIGHT
TZOFFSETFROM:+0000
TZOFFSETTO:+0100
TZNAME:BST
DTSTART:20230326T010000
END:DAYLIGHT
BEGIN:STANDARD
TZOFFSETFROM:+0100
TZOFFSETTO:+0000
TZNAME:GMT
DTSTART:20231029T010000
END:STANDARD
BEGIN:DAYLIGHT
TZOFFSETFROM:+0000
TZOFFSETTO:+0100
TZNAME:BST
DTSTART:20240331T010000
END:DAYLIGHT
BEGIN:STANDARD
TZOFFSETFROM:+0100
TZOFFSETTO:+0000
TZNAME:GMT
DTSTART:20241027T010000
END:STANDARD
END:VTIMEZONE
BEGIN:VEVENT
DTSTART;TZID=Europe/London:20230914T193000
DTEND;TZID=Europe/London:20230914T220000
DTSTAMP:20260422T123923
CREATED:20230914T120552Z
LAST-MODIFIED:20230914T120557Z
UID:3342-1694719800-1694728800@wealdenbusinessgroup.co.uk
SUMMARY:WBG visit to The Grapevine
DESCRIPTION:WBG visit The Grapevine Wine & Jazz Bar in Rye for an evening of wine tasting and live music.
URL:https://wealdenbusinessgroup.co.uk/event/wbg-visit-to-the-grapevine/
LOCATION:The Grapevine Wine and Jazz Bar\, 1 Conduit Hill\, Rye\, East Sussex\, TN31 7LE\, United Kingdom
CATEGORIES:Group Trip
END:VEVENT
END:VCALENDAR