BEGIN:VCALENDAR
VERSION:2.0
PRODID:-//The Wealden Business Group - ECPv6.15.20//NONSGML v1.0//EN
CALSCALE:GREGORIAN
METHOD:PUBLISH
X-WR-CALNAME:The Wealden Business Group
X-ORIGINAL-URL:https://wealdenbusinessgroup.co.uk
X-WR-CALDESC:Events for The Wealden Business Group
REFRESH-INTERVAL;VALUE=DURATION:PT1H
X-Robots-Tag:noindex
X-PUBLISHED-TTL:PT1H
BEGIN:VTIMEZONE
TZID:Europe/London
BEGIN:DAYLIGHT
TZOFFSETFROM:+0000
TZOFFSETTO:+0100
TZNAME:BST
DTSTART:20230326T010000
END:DAYLIGHT
BEGIN:STANDARD
TZOFFSETFROM:+0100
TZOFFSETTO:+0000
TZNAME:GMT
DTSTART:20231029T010000
END:STANDARD
BEGIN:DAYLIGHT
TZOFFSETFROM:+0000
TZOFFSETTO:+0100
TZNAME:BST
DTSTART:20240331T010000
END:DAYLIGHT
BEGIN:STANDARD
TZOFFSETFROM:+0100
TZOFFSETTO:+0000
TZNAME:GMT
DTSTART:20241027T010000
END:STANDARD
BEGIN:DAYLIGHT
TZOFFSETFROM:+0000
TZOFFSETTO:+0100
TZNAME:BST
DTSTART:20250330T010000
END:DAYLIGHT
BEGIN:STANDARD
TZOFFSETFROM:+0100
TZOFFSETTO:+0000
TZNAME:GMT
DTSTART:20251026T010000
END:STANDARD
END:VTIMEZONE
BEGIN:VEVENT
DTSTART;TZID=Europe/London:20240107T173000
DTEND;TZID=Europe/London:20240107T193000
DTSTAMP:20260420T071351
CREATED:20240104T155942Z
LAST-MODIFIED:20240104T155945Z
UID:3470-1704648600-1704655800@wealdenbusinessgroup.co.uk
SUMMARY:Chakra Balance & Intention Setting
DESCRIPTION:Unlock your inner desires with Chakra balancing Yoga\, breath-work\, music\, meditation & Vision Board techniques to manifest your dreams for 2024. \n\n\n\nAll levels welcome\, pay what you can session! \n\n\n\nSee the flyer for more details\, and visit https://buytickets.at/thehumblewarrior/880642 to book.
URL:https://wealdenbusinessgroup.co.uk/event/chakra-balance-intention-setting/
LOCATION:St Leonards Studio\, Azur Marina Pavilion\, St Leonards-on-Sea\, East Sussex\, TN38 0DD\, United Kingdom
CATEGORIES:Member Promotion
ATTACH;FMTTYPE=image/jpeg:https://wealdenbusinessgroup.co.uk/wp-content/uploads/2024/01/HumbleWarrior.jpg
ORGANIZER;CN="This Way Up Wellbeing":MAILTO:info@this-way-up-well-being.co.uk
END:VEVENT
END:VCALENDAR