BEGIN:VCALENDAR
VERSION:2.0
PRODID:-//The Wealden Business Group - ECPv6.15.20//NONSGML v1.0//EN
CALSCALE:GREGORIAN
METHOD:PUBLISH
X-ORIGINAL-URL:https://wealdenbusinessgroup.co.uk
X-WR-CALDESC:Events for The Wealden Business Group
REFRESH-INTERVAL;VALUE=DURATION:PT1H
X-Robots-Tag:noindex
X-PUBLISHED-TTL:PT1H
BEGIN:VTIMEZONE
TZID:Europe/London
BEGIN:DAYLIGHT
TZOFFSETFROM:+0000
TZOFFSETTO:+0100
TZNAME:BST
DTSTART:20230326T010000
END:DAYLIGHT
BEGIN:STANDARD
TZOFFSETFROM:+0100
TZOFFSETTO:+0000
TZNAME:GMT
DTSTART:20231029T010000
END:STANDARD
BEGIN:DAYLIGHT
TZOFFSETFROM:+0000
TZOFFSETTO:+0100
TZNAME:BST
DTSTART:20240331T010000
END:DAYLIGHT
BEGIN:STANDARD
TZOFFSETFROM:+0100
TZOFFSETTO:+0000
TZNAME:GMT
DTSTART:20241027T010000
END:STANDARD
BEGIN:DAYLIGHT
TZOFFSETFROM:+0000
TZOFFSETTO:+0100
TZNAME:BST
DTSTART:20250330T010000
END:DAYLIGHT
BEGIN:STANDARD
TZOFFSETFROM:+0100
TZOFFSETTO:+0000
TZNAME:GMT
DTSTART:20251026T010000
END:STANDARD
END:VTIMEZONE
BEGIN:VEVENT
DTSTART;TZID=Europe/London:20240424T070000
DTEND;TZID=Europe/London:20240424T083000
DTSTAMP:20260420T030053
CREATED:20240312T125830Z
LAST-MODIFIED:20240312T125930Z
UID:3564-1713942000-1713947400@wealdenbusinessgroup.co.uk
SUMMARY:WBG Annual General Meeting 2024
DESCRIPTION:Review of the past year and election of officers for the coming 12 months.
URL:https://wealdenbusinessgroup.co.uk/event/wbg-annual-general-meeting-2024/
LOCATION:The White Lion\, High St\, Tenterden\, Kent\, TN30 6BD\, United Kingdom
CATEGORIES:Weekly Meeting
END:VEVENT
END:VCALENDAR