BEGIN:VCALENDAR
VERSION:2.0
PRODID:-//The Wealden Business Group - ECPv6.15.20//NONSGML v1.0//EN
CALSCALE:GREGORIAN
METHOD:PUBLISH
X-WR-CALNAME:The Wealden Business Group
X-ORIGINAL-URL:https://wealdenbusinessgroup.co.uk
X-WR-CALDESC:Events for The Wealden Business Group
REFRESH-INTERVAL;VALUE=DURATION:PT1H
X-Robots-Tag:noindex
X-PUBLISHED-TTL:PT1H
BEGIN:VTIMEZONE
TZID:Europe/London
BEGIN:DAYLIGHT
TZOFFSETFROM:+0000
TZOFFSETTO:+0100
TZNAME:BST
DTSTART:20230326T010000
END:DAYLIGHT
BEGIN:STANDARD
TZOFFSETFROM:+0100
TZOFFSETTO:+0000
TZNAME:GMT
DTSTART:20231029T010000
END:STANDARD
BEGIN:DAYLIGHT
TZOFFSETFROM:+0000
TZOFFSETTO:+0100
TZNAME:BST
DTSTART:20240331T010000
END:DAYLIGHT
BEGIN:STANDARD
TZOFFSETFROM:+0100
TZOFFSETTO:+0000
TZNAME:GMT
DTSTART:20241027T010000
END:STANDARD
BEGIN:DAYLIGHT
TZOFFSETFROM:+0000
TZOFFSETTO:+0100
TZNAME:BST
DTSTART:20250330T010000
END:DAYLIGHT
BEGIN:STANDARD
TZOFFSETFROM:+0100
TZOFFSETTO:+0000
TZNAME:GMT
DTSTART:20251026T010000
END:STANDARD
END:VTIMEZONE
BEGIN:VEVENT
DTSTART;TZID=Europe/London:20240605T070000
DTEND;TZID=Europe/London:20240605T083000
DTSTAMP:20260420T001757
CREATED:20240514T125521Z
LAST-MODIFIED:20240521T155956Z
UID:3626-1717570800-1717576200@wealdenbusinessgroup.co.uk
SUMMARY:Sophie-Jane Taylor - Mrs Taylor's Eco Clean
DESCRIPTION:Sophie-Jane began her eco journey as an affiliate for a business that sadly closed\, but just knew her eco journey wasn’t over. In her words… \n\n\n\n“I have learnt so much about the environment and the impact we have on our planet since starting out and it has really opened my eyes and helped me make more sustainable choices.” \n\n\n\n“I also quickly became aware of eco-shaming and have been a victim of this myself. Eco-shaming is when someone negatively comments on changes you’ve made and makes you feel like you aren’t doing enough and that you should be living a “perfect” eco lifestyle. This isn’t always possible\, affordable or achievable! My aim is to celebrate every change\, spread positivity and help people with achievable changes.”
URL:https://wealdenbusinessgroup.co.uk/event/sophie-jane-taylor-mrs-taylors-eco-clean/
LOCATION:The White Lion\, High St\, Tenterden\, Kent\, TN30 6BD\, United Kingdom
CATEGORIES:Weekly Meeting
END:VEVENT
END:VCALENDAR