BEGIN:VCALENDAR
VERSION:2.0
PRODID:-//The Wealden Business Group - ECPv6.15.20//NONSGML v1.0//EN
CALSCALE:GREGORIAN
METHOD:PUBLISH
X-ORIGINAL-URL:https://wealdenbusinessgroup.co.uk
X-WR-CALDESC:Events for The Wealden Business Group
REFRESH-INTERVAL;VALUE=DURATION:PT1H
X-Robots-Tag:noindex
X-PUBLISHED-TTL:PT1H
BEGIN:VTIMEZONE
TZID:Europe/London
BEGIN:DAYLIGHT
TZOFFSETFROM:+0000
TZOFFSETTO:+0100
TZNAME:BST
DTSTART:20230326T010000
END:DAYLIGHT
BEGIN:STANDARD
TZOFFSETFROM:+0100
TZOFFSETTO:+0000
TZNAME:GMT
DTSTART:20231029T010000
END:STANDARD
BEGIN:DAYLIGHT
TZOFFSETFROM:+0000
TZOFFSETTO:+0100
TZNAME:BST
DTSTART:20240331T010000
END:DAYLIGHT
BEGIN:STANDARD
TZOFFSETFROM:+0100
TZOFFSETTO:+0000
TZNAME:GMT
DTSTART:20241027T010000
END:STANDARD
BEGIN:DAYLIGHT
TZOFFSETFROM:+0000
TZOFFSETTO:+0100
TZNAME:BST
DTSTART:20250330T010000
END:DAYLIGHT
BEGIN:STANDARD
TZOFFSETFROM:+0100
TZOFFSETTO:+0000
TZNAME:GMT
DTSTART:20251026T010000
END:STANDARD
END:VTIMEZONE
BEGIN:VEVENT
DTSTART;TZID=Europe/London:20240626T070000
DTEND;TZID=Europe/London:20240626T083000
DTSTAMP:20260420T001855
CREATED:20240625T082509Z
LAST-MODIFIED:20240625T082513Z
UID:3684-1719385200-1719390600@wealdenbusinessgroup.co.uk
SUMMARY:Bronwyn Rich - This Way Up Well Being
DESCRIPTION:This way to positive mental health and wellbeing. \n\n\n\nWe will explore what it is we mean by mental health and wellbeing. \n\n\n\nDiscover some of the risk factors that can effect our mental wellbeing and how we can protect ourselves and others. \n\n\n\nIdentify signs and symptoms of stress\, poor mental health and mental illness. \n\n\n\nLook at a support pathways for those struggling with poor mental health\, mental illness\, experiencing mental or emotional pain and distress.
URL:https://wealdenbusinessgroup.co.uk/event/bronwyn-rich-this-way-up-well-being/
LOCATION:The White Lion\, High St\, Tenterden\, Kent\, TN30 6BD\, United Kingdom
CATEGORIES:Weekly Meeting
END:VEVENT
END:VCALENDAR