BEGIN:VCALENDAR
VERSION:2.0
PRODID:-//The Wealden Business Group - ECPv6.15.20//NONSGML v1.0//EN
CALSCALE:GREGORIAN
METHOD:PUBLISH
X-ORIGINAL-URL:https://wealdenbusinessgroup.co.uk
X-WR-CALDESC:Events for The Wealden Business Group
REFRESH-INTERVAL;VALUE=DURATION:PT1H
X-Robots-Tag:noindex
X-PUBLISHED-TTL:PT1H
BEGIN:VTIMEZONE
TZID:Europe/London
BEGIN:DAYLIGHT
TZOFFSETFROM:+0000
TZOFFSETTO:+0100
TZNAME:BST
DTSTART:20230326T010000
END:DAYLIGHT
BEGIN:STANDARD
TZOFFSETFROM:+0100
TZOFFSETTO:+0000
TZNAME:GMT
DTSTART:20231029T010000
END:STANDARD
BEGIN:DAYLIGHT
TZOFFSETFROM:+0000
TZOFFSETTO:+0100
TZNAME:BST
DTSTART:20240331T010000
END:DAYLIGHT
BEGIN:STANDARD
TZOFFSETFROM:+0100
TZOFFSETTO:+0000
TZNAME:GMT
DTSTART:20241027T010000
END:STANDARD
BEGIN:DAYLIGHT
TZOFFSETFROM:+0000
TZOFFSETTO:+0100
TZNAME:BST
DTSTART:20250330T010000
END:DAYLIGHT
BEGIN:STANDARD
TZOFFSETFROM:+0100
TZOFFSETTO:+0000
TZNAME:GMT
DTSTART:20251026T010000
END:STANDARD
END:VTIMEZONE
BEGIN:VEVENT
DTSTART;TZID=Europe/London:20240717T070000
DTEND;TZID=Europe/London:20240717T083000
DTSTAMP:20260419T225850
CREATED:20240513T141453Z
LAST-MODIFIED:20240716T172404Z
UID:3614-1721199600-1721205000@wealdenbusinessgroup.co.uk
SUMMARY:Bob Morgan - IT Planning
DESCRIPTION:As a small business\, IT Planning understands the needs of similar-sized enterprises to ensure their IT systems run smoothly without breaking the bank. \n\n\n\nThey’re particularly proud of their great and friendly customer service. They give sound\, straightforward advice\, in plain English\, on all issues. They outline and go through the technical pros and cons of any project or installation you might be considering.
URL:https://wealdenbusinessgroup.co.uk/event/bob-morgan-it-planning-4/
LOCATION:The White Lion\, High St\, Tenterden\, Kent\, TN30 6BD\, United Kingdom
CATEGORIES:Weekly Meeting
END:VEVENT
END:VCALENDAR