BEGIN:VCALENDAR
VERSION:2.0
PRODID:-//The Wealden Business Group - ECPv6.15.20//NONSGML v1.0//EN
CALSCALE:GREGORIAN
METHOD:PUBLISH
X-WR-CALNAME:The Wealden Business Group
X-ORIGINAL-URL:https://wealdenbusinessgroup.co.uk
X-WR-CALDESC:Events for The Wealden Business Group
REFRESH-INTERVAL;VALUE=DURATION:PT1H
X-Robots-Tag:noindex
X-PUBLISHED-TTL:PT1H
BEGIN:VTIMEZONE
TZID:Europe/London
BEGIN:DAYLIGHT
TZOFFSETFROM:+0000
TZOFFSETTO:+0100
TZNAME:BST
DTSTART:20250330T010000
END:DAYLIGHT
BEGIN:STANDARD
TZOFFSETFROM:+0100
TZOFFSETTO:+0000
TZNAME:GMT
DTSTART:20251026T010000
END:STANDARD
BEGIN:DAYLIGHT
TZOFFSETFROM:+0000
TZOFFSETTO:+0100
TZNAME:BST
DTSTART:20260329T010000
END:DAYLIGHT
BEGIN:STANDARD
TZOFFSETFROM:+0100
TZOFFSETTO:+0000
TZNAME:GMT
DTSTART:20261025T010000
END:STANDARD
BEGIN:DAYLIGHT
TZOFFSETFROM:+0000
TZOFFSETTO:+0100
TZNAME:BST
DTSTART:20270328T010000
END:DAYLIGHT
BEGIN:STANDARD
TZOFFSETFROM:+0100
TZOFFSETTO:+0000
TZNAME:GMT
DTSTART:20271031T010000
END:STANDARD
END:VTIMEZONE
BEGIN:VEVENT
DTSTART;TZID=Europe/London:20260422T070000
DTEND;TZID=Europe/London:20260422T083000
DTSTAMP:20260422T233357
CREATED:20260319T144029Z
LAST-MODIFIED:20260319T144033Z
UID:4663-1776841200-1776846600@wealdenbusinessgroup.co.uk
SUMMARY:Annual General Meeting
DESCRIPTION:The 2026 Wealden Business Group AGM\, there will be no speaker.
URL:https://wealdenbusinessgroup.co.uk/event/annual-general-meeting-3/
LOCATION:Brunch and Brew\, 52 High St\, Tenterden\, Kent\, TN30 6AU\, United Kingdom
CATEGORIES:Weekly Meeting
END:VEVENT
END:VCALENDAR