BEGIN:VCALENDAR
VERSION:2.0
PRODID:-//The Wealden Business Group - ECPv6.15.20//NONSGML v1.0//EN
CALSCALE:GREGORIAN
METHOD:PUBLISH
X-ORIGINAL-URL:https://wealdenbusinessgroup.co.uk
X-WR-CALDESC:Events for The Wealden Business Group
REFRESH-INTERVAL;VALUE=DURATION:PT1H
X-Robots-Tag:noindex
X-PUBLISHED-TTL:PT1H
BEGIN:VTIMEZONE
TZID:UTC
BEGIN:STANDARD
TZOFFSETFROM:+0000
TZOFFSETTO:+0000
TZNAME:UTC
DTSTART:20210101T000000
END:STANDARD
END:VTIMEZONE
BEGIN:VEVENT
DTSTART;TZID=UTC:20221005T070000
DTEND;TZID=UTC:20221005T083000
DTSTAMP:20260423T021338
CREATED:20221012T165942Z
LAST-MODIFIED:20221012T172906Z
UID:2972-1664953200-1664958600@wealdenbusinessgroup.co.uk
SUMMARY:Graham Card - Card and Company (Commercial Finance) Ltd.
DESCRIPTION:Speaker – Graham Card – Card and Company (Commercial Finance) Ltd. – Commercial finance (part 2)
URL:https://wealdenbusinessgroup.co.uk/event/graham-card-card-and-company-pt-2/
LOCATION:The White Lion\, High St\, Tenterden\, Kent\, TN30 6BD\, United Kingdom
CATEGORIES:Weekly Meeting
END:VEVENT
BEGIN:VEVENT
DTSTART;TZID=UTC:20221012T070000
DTEND;TZID=UTC:20221012T083000
DTSTAMP:20260423T021338
CREATED:20221012T170046Z
LAST-MODIFIED:20221012T172906Z
UID:2975-1665558000-1665563400@wealdenbusinessgroup.co.uk
SUMMARY:Bill Ferguson – Osteopathy\, Cranial Osteopathy and Acupuncture
DESCRIPTION:Speaker – Bill Ferguson – Osteopathy\, Cranial Osteopathy and Acupuncture
URL:https://wealdenbusinessgroup.co.uk/event/bill-ferguson-osteopathy-cranial-osteopathy-and-acupuncture/
LOCATION:The White Lion\, High St\, Tenterden\, Kent\, TN30 6BD\, United Kingdom
CATEGORIES:Weekly Meeting
END:VEVENT
BEGIN:VEVENT
DTSTART;TZID=UTC:20221019T070000
DTEND;TZID=UTC:20221019T083000
DTSTAMP:20260423T021338
CREATED:20221012T170236Z
LAST-MODIFIED:20221020T152543Z
UID:2977-1666162800-1666168200@wealdenbusinessgroup.co.uk
SUMMARY:Colman Carpenter – Branding and Website Design
DESCRIPTION:Speaker – Colman Carpenter – Principal at Four Lakes- Hard-working WebsitesPresentation is now available online – https://docs.google.com/presentation/d/1KVUWrnYX-5rz1Mio5BKXivWwCdv3sOOn6PBzCMQXWX4/edit?usp=sharing
URL:https://wealdenbusinessgroup.co.uk/event/colman-carpenter-four-lakes/
LOCATION:The White Lion\, High St\, Tenterden\, Kent\, TN30 6BD\, United Kingdom
CATEGORIES:Weekly Meeting
END:VEVENT
BEGIN:VEVENT
DTSTART;TZID=UTC:20221026T070000
DTEND;TZID=UTC:20221026T083000
DTSTAMP:20260423T021338
CREATED:20221012T170335Z
LAST-MODIFIED:20221012T172905Z
UID:2979-1666767600-1666773000@wealdenbusinessgroup.co.uk
SUMMARY:Richard Smith – Owner of Eyemasters
DESCRIPTION:Speaker – Richard Smith – Owner of Eyemasters – A highly personalised approach to frames\, lenses and specialist eyewear.
URL:https://wealdenbusinessgroup.co.uk/event/richard-smith-owner-of-eyemasters/
LOCATION:The White Lion\, High St\, Tenterden\, Kent\, TN30 6BD\, United Kingdom
CATEGORIES:Weekly Meeting
END:VEVENT
END:VCALENDAR