BEGIN:VCALENDAR
VERSION:2.0
PRODID:-//The Wealden Business Group - ECPv6.15.20//NONSGML v1.0//EN
CALSCALE:GREGORIAN
METHOD:PUBLISH
X-ORIGINAL-URL:https://wealdenbusinessgroup.co.uk
X-WR-CALDESC:Events for The Wealden Business Group
REFRESH-INTERVAL;VALUE=DURATION:PT1H
X-Robots-Tag:noindex
X-PUBLISHED-TTL:PT1H
BEGIN:VTIMEZONE
TZID:UTC
BEGIN:STANDARD
TZOFFSETFROM:+0000
TZOFFSETTO:+0000
TZNAME:UTC
DTSTART:20210101T000000
END:STANDARD
END:VTIMEZONE
BEGIN:VEVENT
DTSTART;TZID=UTC:20221109T070000
DTEND;TZID=UTC:20221109T083000
DTSTAMP:20260423T005622
CREATED:20221012T170513Z
LAST-MODIFIED:20221012T172905Z
UID:2981-1667977200-1667982600@wealdenbusinessgroup.co.uk
SUMMARY:Jenna Hunter – Principal at Hunter Law Ltd
DESCRIPTION:Speaker – Jenna Hunter – Principal at Hunter Law Ltd \n\n\n\nEmployment legislation is developing at bewildering speed\, and Jenna Hunter specialises in advising her business and individual clients on the current law\, and representing them in employment tribunals.
URL:https://wealdenbusinessgroup.co.uk/event/jenna-hunter-principal-at-hunter-law-ltd/
LOCATION:The White Lion\, High St\, Tenterden\, Kent\, TN30 6BD\, United Kingdom
CATEGORIES:Weekly Meeting
END:VEVENT
BEGIN:VEVENT
DTSTART;TZID=UTC:20221123T070000
DTEND;TZID=UTC:20221123T083000
DTSTAMP:20260423T005622
CREATED:20221012T170831Z
LAST-MODIFIED:20221012T172905Z
UID:2984-1669186800-1669192200@wealdenbusinessgroup.co.uk
SUMMARY:WBG book review – The Checklist Manifesto
DESCRIPTION:WBG book review presented by Bill Ferguson \n\n\n\nThe Checklist Manifesto…How to get things right!
URL:https://wealdenbusinessgroup.co.uk/event/wbg-book-review-the-checklist-manifesto/
LOCATION:The White Lion\, High St\, Tenterden\, Kent\, TN30 6BD\, United Kingdom
CATEGORIES:Weekly Meeting
ATTACH;FMTTYPE=image/jpeg:https://wealdenbusinessgroup.co.uk/wp-content/uploads/2022/10/Checklist-Manifesto.jpg
END:VEVENT
BEGIN:VEVENT
DTSTART;TZID=UTC:20221130T070000
DTEND;TZID=UTC:20221130T083000
DTSTAMP:20260423T005622
CREATED:20221128T133231Z
LAST-MODIFIED:20221128T133234Z
UID:3109-1669791600-1669797000@wealdenbusinessgroup.co.uk
SUMMARY:Jason Harding of First Aid Training
DESCRIPTION:Speaker – Jason Harding of First Aid Training \n\n\n\nJason Harding has been involved in first aid training for the last 15 years\, and as a designated first aider for over 30 years. \n\n\n\nJason Harding First Aid Training comply with the guidelines as set out by Health & Safety Executive (HSE) in its guidelines for first aid
URL:https://wealdenbusinessgroup.co.uk/event/jason-harding-of-first-aid-training/
LOCATION:The White Lion\, High St\, Tenterden\, Kent\, TN30 6BD\, United Kingdom
CATEGORIES:Weekly Meeting
END:VEVENT
END:VCALENDAR