BEGIN:VCALENDAR
VERSION:2.0
PRODID:-//The Wealden Business Group - ECPv6.15.20//NONSGML v1.0//EN
CALSCALE:GREGORIAN
METHOD:PUBLISH
X-WR-CALNAME:The Wealden Business Group
X-ORIGINAL-URL:https://wealdenbusinessgroup.co.uk
X-WR-CALDESC:Events for The Wealden Business Group
REFRESH-INTERVAL;VALUE=DURATION:PT1H
X-Robots-Tag:noindex
X-PUBLISHED-TTL:PT1H
BEGIN:VTIMEZONE
TZID:UTC
BEGIN:STANDARD
TZOFFSETFROM:+0000
TZOFFSETTO:+0000
TZNAME:UTC
DTSTART:20220101T000000
END:STANDARD
END:VTIMEZONE
BEGIN:VEVENT
DTSTART;TZID=UTC:20230201T070000
DTEND;TZID=UTC:20230201T083000
DTSTAMP:20260422T220942
CREATED:20230118T151251Z
LAST-MODIFIED:20230118T151259Z
UID:3146-1675234800-1675240200@wealdenbusinessgroup.co.uk
SUMMARY:Mark Reumel - Advanced Business Coaching
DESCRIPTION:Speaker – Mark Reumel – Advanced Business Coaching \n\n\n\n“With 40 years of working for various large global corporate companies\, in both management and management training roles\, I have gained a great insight into business strategy and leadership styles. If you feel your business needs to ensure it is maximising the investment it makes in its people\, speak to us to understand how we could work with your teams.”
URL:https://wealdenbusinessgroup.co.uk/event/mark-reumel-advanced-business-coaching/
LOCATION:The White Lion\, High St\, Tenterden\, Kent\, TN30 6BD\, United Kingdom
CATEGORIES:Weekly Meeting
END:VEVENT
BEGIN:VEVENT
DTSTART;TZID=UTC:20230208T070000
DTEND;TZID=UTC:20230208T083000
DTSTAMP:20260422T220942
CREATED:20230118T152745Z
LAST-MODIFIED:20230118T152800Z
UID:3148-1675839600-1675845000@wealdenbusinessgroup.co.uk
SUMMARY:Adam Park - Westoaks Builders Ltd
DESCRIPTION:Speaker – Adam Park – Westoaks Builders Ltd \n\n\n\nWestoaks Builders Ltd was first established in 1977 and benefits from a wealth of experience within the building industry. Their current operational area is East Sussex and Kent.
URL:https://wealdenbusinessgroup.co.uk/event/adam-park-westoaks-builders-ltd/
LOCATION:The White Lion\, High St\, Tenterden\, Kent\, TN30 6BD\, United Kingdom
CATEGORIES:Weekly Meeting
END:VEVENT
BEGIN:VEVENT
DTSTART;TZID=UTC:20230215T070000
DTEND;TZID=UTC:20230215T083000
DTSTAMP:20260422T220942
CREATED:20230118T153403Z
LAST-MODIFIED:20230118T153432Z
UID:3150-1676444400-1676449800@wealdenbusinessgroup.co.uk
SUMMARY:Bob Morgan – Principal at IT Planning
DESCRIPTION:Speaker – Bob Morgan – Principal at IT Planning – Cloud solution specialist \n\n\n\nIT Planning is a specialist IT Consultancy and Managed Service Provider that listens to the needs of your enterprise and develops strategies to keep your data secure and your business running.
URL:https://wealdenbusinessgroup.co.uk/event/bob-morgan-principal-at-it-planning/
LOCATION:The White Lion\, High St\, Tenterden\, Kent\, TN30 6BD\, United Kingdom
CATEGORIES:Weekly Meeting
END:VEVENT
BEGIN:VEVENT
DTSTART;TZID=UTC:20230222T070000
DTEND;TZID=UTC:20230222T083000
DTSTAMP:20260422T220942
CREATED:20230215T144155Z
LAST-MODIFIED:20230215T144236Z
UID:3160-1677049200-1677054600@wealdenbusinessgroup.co.uk
SUMMARY:Andy Richardson - Uprising
DESCRIPTION:Speaker – Andy Richardson from Uprising \n\n\n\nUprising Youth and Community is a growing charity based in Ashford\, Kent that aims to support young people\, families\, and communities facing significant challenges\, achieve improvements in life\, resulting in personal and community transformation.Uprising has been the WBGs chosen charity for 2022/23
URL:https://wealdenbusinessgroup.co.uk/event/andy-richardson-uprising/
LOCATION:The White Lion\, High St\, Tenterden\, Kent\, TN30 6BD\, United Kingdom
CATEGORIES:Weekly Meeting
END:VEVENT
END:VCALENDAR