BEGIN:VCALENDAR
VERSION:2.0
PRODID:-//The Wealden Business Group - ECPv6.15.20//NONSGML v1.0//EN
CALSCALE:GREGORIAN
METHOD:PUBLISH
X-WR-CALNAME:The Wealden Business Group
X-ORIGINAL-URL:https://wealdenbusinessgroup.co.uk
X-WR-CALDESC:Events for The Wealden Business Group
REFRESH-INTERVAL;VALUE=DURATION:PT1H
X-Robots-Tag:noindex
X-PUBLISHED-TTL:PT1H
BEGIN:VTIMEZONE
TZID:UTC
BEGIN:STANDARD
TZOFFSETFROM:+0000
TZOFFSETTO:+0000
TZNAME:UTC
DTSTART:20220101T000000
END:STANDARD
END:VTIMEZONE
BEGIN:VEVENT
DTSTART;TZID=UTC:20230301T070000
DTEND;TZID=UTC:20230301T083000
DTSTAMP:20260422T193522
CREATED:20230215T150449Z
LAST-MODIFIED:20230215T150541Z
UID:3162-1677654000-1677659400@wealdenbusinessgroup.co.uk
SUMMARY:Louise Carter - Time and Space Coaching
DESCRIPTION:Speaker – Louise Carter of Time and Space Coaching \n\n\n\nWith a background in professional training\, Louise is an ACSTH-qualified life coach approved by the Association of Coaches and the Personal Care Institute (PCI) in wellness.
URL:https://wealdenbusinessgroup.co.uk/event/louise-carter-time-and-space-coaching/
LOCATION:The White Lion\, High St\, Tenterden\, Kent\, TN30 6BD\, United Kingdom
CATEGORIES:Weekly Meeting
END:VEVENT
BEGIN:VEVENT
DTSTART;TZID=UTC:20230308T070000
DTEND;TZID=UTC:20230308T083000
DTSTAMP:20260422T193522
CREATED:20230215T151310Z
LAST-MODIFIED:20230215T151337Z
UID:3164-1678258800-1678264200@wealdenbusinessgroup.co.uk
SUMMARY:Jan Cavelle - Entrepreneur\, Speaker Now Author
DESCRIPTION:Speaker – Jan Cavelle – Entrepreneur\, Speaker Now Author \n\n\n\nJan discusses her book the Start for Success – The Entrepreneur’s Guide to Start-Ups.
URL:https://wealdenbusinessgroup.co.uk/event/jan-cavelle-entrepreneur-speaker-now-author/
LOCATION:The White Lion\, High St\, Tenterden\, Kent\, TN30 6BD\, United Kingdom
CATEGORIES:Weekly Meeting
END:VEVENT
BEGIN:VEVENT
DTSTART;TZID=UTC:20230315T070000
DTEND;TZID=UTC:20230315T083000
DTSTAMP:20260422T193522
CREATED:20230223T154644Z
LAST-MODIFIED:20230313T082828Z
UID:3175-1678863600-1678869000@wealdenbusinessgroup.co.uk
SUMMARY:Bill Dane – Agent at EXP UK
DESCRIPTION:Speaker – Bill Dane – Agent at EXP UK \n\n\n\nEXP UK considered one of the fastest growing estate agency business in the history of the world\, due to its approach to estate agency and the autonomy it gives to its agents to provide a service\, which is personalised to you.
URL:https://wealdenbusinessgroup.co.uk/event/bill-dale-agent-at-exp-uk/
LOCATION:The White Lion\, High St\, Tenterden\, Kent\, TN30 6BD\, United Kingdom
CATEGORIES:Weekly Meeting
END:VEVENT
BEGIN:VEVENT
DTSTART;TZID=UTC:20230322T070000
DTEND;TZID=UTC:20230322T083000
DTSTAMP:20260422T193522
CREATED:20230215T152203Z
LAST-MODIFIED:20230215T152240Z
UID:3166-1679468400-1679473800@wealdenbusinessgroup.co.uk
SUMMARY:David Meredith – Busbys Chartered Accountants
DESCRIPTION:Speaker – David Meredith – Principal at Busbys Chartered Accountants \n\n\n\nReview of the spring 2023 budget.
URL:https://wealdenbusinessgroup.co.uk/event/david-meredith-busbys-chartered-accountants/
LOCATION:The White Lion\, High St\, Tenterden\, Kent\, TN30 6BD\, United Kingdom
CATEGORIES:Weekly Meeting
END:VEVENT
BEGIN:VEVENT
DTSTART;TZID=UTC:20230329T070000
DTEND;TZID=UTC:20230329T210000
DTSTAMP:20260422T193522
CREATED:20230215T153807Z
LAST-MODIFIED:20230215T153851Z
UID:3168-1680073200-1680123600@wealdenbusinessgroup.co.uk
SUMMARY:Wealden Business Group Trip to Ypres
DESCRIPTION:Group trip to Ypres in Belgium. \n\n\n\nYpres (leper)\, is a town in the Belgian province of West Flanders. It’s surrounded by the Ypres Salient battlefields\, where many cemeteries\, memorials and war museums honour the battles that unfolded in this area during World War I.
URL:https://wealdenbusinessgroup.co.uk/event/wealden-business-group-trip-to-ypres/
LOCATION:The White Lion\, High St\, Tenterden\, Kent\, TN30 6BD\, United Kingdom
CATEGORIES:Group Trip
ATTACH;FMTTYPE=image/jpeg:https://wealdenbusinessgroup.co.uk/wp-content/uploads/2023/02/Ypres_grand_place.jpg
END:VEVENT
END:VCALENDAR