BEGIN:VCALENDAR
VERSION:2.0
PRODID:-//The Wealden Business Group - ECPv6.15.20//NONSGML v1.0//EN
CALSCALE:GREGORIAN
METHOD:PUBLISH
X-WR-CALNAME:The Wealden Business Group
X-ORIGINAL-URL:https://wealdenbusinessgroup.co.uk
X-WR-CALDESC:Events for The Wealden Business Group
REFRESH-INTERVAL;VALUE=DURATION:PT1H
X-Robots-Tag:noindex
X-PUBLISHED-TTL:PT1H
BEGIN:VTIMEZONE
TZID:UTC
BEGIN:STANDARD
TZOFFSETFROM:+0000
TZOFFSETTO:+0000
TZNAME:UTC
DTSTART:20220101T000000
END:STANDARD
END:VTIMEZONE
BEGIN:VEVENT
DTSTART;TZID=UTC:20230405T070000
DTEND;TZID=UTC:20230405T083000
DTSTAMP:20260422T181128
CREATED:20230215T155243Z
LAST-MODIFIED:20230215T160002Z
UID:3171-1680678000-1680683400@wealdenbusinessgroup.co.uk
SUMMARY:WBG book review – Full Tilt
DESCRIPTION:WBG book review presented by Bill Ferguson \n\n\n\nFull Tilt – Ireland to India with a bicycle\, by Dervla Murphy
URL:https://wealdenbusinessgroup.co.uk/event/wbg-book-review-full-tilt/
LOCATION:The White Lion\, High St\, Tenterden\, Kent\, TN30 6BD\, United Kingdom
CATEGORIES:Weekly Meeting
ATTACH;FMTTYPE=image/jpeg:https://wealdenbusinessgroup.co.uk/wp-content/uploads/2023/02/51OrsQTZ8PL._SX320_BO1204203200_.jpg
END:VEVENT
BEGIN:VEVENT
DTSTART;TZID=UTC:20230412T070000
DTEND;TZID=UTC:20230412T083000
DTSTAMP:20260422T181128
CREATED:20230208T155956Z
LAST-MODIFIED:20230208T160019Z
UID:3158-1681282800-1681288200@wealdenbusinessgroup.co.uk
SUMMARY:Annual General Meeting
DESCRIPTION:The Wealden Business Group AGM. There will be no speaker.
URL:https://wealdenbusinessgroup.co.uk/event/annual-general-meeting/
LOCATION:The White Lion\, High St\, Tenterden\, Kent\, TN30 6BD\, United Kingdom
CATEGORIES:Weekly Meeting
END:VEVENT
BEGIN:VEVENT
DTSTART;TZID=UTC:20230419T070000
DTEND;TZID=UTC:20230419T083000
DTSTAMP:20260422T181128
CREATED:20230417T075234Z
LAST-MODIFIED:20230417T075246Z
UID:3180-1681887600-1681893000@wealdenbusinessgroup.co.uk
SUMMARY:Why do we need mental health and suicide first aid
DESCRIPTION:Speaker – Bronwyn Rich – Mental Health Specialist This Way Up Wellbeing \n\n\n\nEstablished and accomplished Adult and Youth Mental Health and Suicide First Aid Instructor\, delivering training on suicide prevention for children\, young people\, and adults\, delivering on stress management\, toxic stress reduction. \n\n\n\nBronwyn’s presentation is “Why do we need mental health and suicide first aid” what problem does it solve.
URL:https://wealdenbusinessgroup.co.uk/event/why-do-we-need-mental-health-and-suicide-first-aid/
LOCATION:The White Lion\, High St\, Tenterden\, Kent\, TN30 6BD\, United Kingdom
CATEGORIES:Weekly Meeting
END:VEVENT
BEGIN:VEVENT
DTSTART;TZID=UTC:20230426T070000
DTEND;TZID=UTC:20230426T083000
DTSTAMP:20260422T181128
CREATED:20230420T090727Z
LAST-MODIFIED:20230420T090737Z
UID:3187-1682492400-1682497800@wealdenbusinessgroup.co.uk
SUMMARY:Uprising charity cheque presentation
DESCRIPTION:Speaker – Andy Richardson from Uprising \n\n\n\nUprising Youth and Community is a growing charity based in Ashford\, Kent that aims to support young people\, families\, and communities facing significant challenges\, achieve improvements in life\, resulting in personal and community transformation.Uprising has been the WBGs chosen charity for 2022/23
URL:https://wealdenbusinessgroup.co.uk/event/uprising-charity-cheque-presentation/
LOCATION:The White Lion\, High St\, Tenterden\, Kent\, TN30 6BD\, United Kingdom
CATEGORIES:Weekly Meeting
ATTACH;FMTTYPE=image/jpeg:https://wealdenbusinessgroup.co.uk/wp-content/uploads/2022/05/Uprising.jpeg
END:VEVENT
END:VCALENDAR