BEGIN:VCALENDAR
VERSION:2.0
PRODID:-//The Wealden Business Group - ECPv6.15.20//NONSGML v1.0//EN
CALSCALE:GREGORIAN
METHOD:PUBLISH
X-WR-CALNAME:The Wealden Business Group
X-ORIGINAL-URL:https://wealdenbusinessgroup.co.uk
X-WR-CALDESC:Events for The Wealden Business Group
REFRESH-INTERVAL;VALUE=DURATION:PT1H
X-Robots-Tag:noindex
X-PUBLISHED-TTL:PT1H
BEGIN:VTIMEZONE
TZID:Europe/London
BEGIN:DAYLIGHT
TZOFFSETFROM:+0000
TZOFFSETTO:+0100
TZNAME:BST
DTSTART:20220327T010000
END:DAYLIGHT
BEGIN:STANDARD
TZOFFSETFROM:+0100
TZOFFSETTO:+0000
TZNAME:GMT
DTSTART:20221030T010000
END:STANDARD
BEGIN:DAYLIGHT
TZOFFSETFROM:+0000
TZOFFSETTO:+0100
TZNAME:BST
DTSTART:20230326T010000
END:DAYLIGHT
BEGIN:STANDARD
TZOFFSETFROM:+0100
TZOFFSETTO:+0000
TZNAME:GMT
DTSTART:20231029T010000
END:STANDARD
BEGIN:DAYLIGHT
TZOFFSETFROM:+0000
TZOFFSETTO:+0100
TZNAME:BST
DTSTART:20240331T010000
END:DAYLIGHT
BEGIN:STANDARD
TZOFFSETFROM:+0100
TZOFFSETTO:+0000
TZNAME:GMT
DTSTART:20241027T010000
END:STANDARD
END:VTIMEZONE
BEGIN:VEVENT
DTSTART;TZID=Europe/London:20230607T070000
DTEND;TZID=Europe/London:20230607T083000
DTSTAMP:20260422T151818
CREATED:20230525T162049Z
LAST-MODIFIED:20230525T162101Z
UID:3226-1686121200-1686126600@wealdenbusinessgroup.co.uk
SUMMARY:Jason Harding - First Aid Training
DESCRIPTION:Jason Harding of First Aid Training Jason Harding has been involved in first aid training for the last 15 years\, and as a designated first aider for over 30 years. Jason Harding First Aid Training comply with the guidelines as set out by Health & Safety Executive (HSE) in its guidelines for first aid. \n\n\n\nThe presentation will be followed with a First Aid course for the members.
URL:https://wealdenbusinessgroup.co.uk/event/jason-harding-first-aid-training/
LOCATION:The White Lion\, High St\, Tenterden\, Kent\, TN30 6BD\, United Kingdom
CATEGORIES:Weekly Meeting
END:VEVENT
BEGIN:VEVENT
DTSTART;TZID=Europe/London:20230614T070000
DTEND;TZID=Europe/London:20230614T083000
DTSTAMP:20260422T151818
CREATED:20230525T162537Z
LAST-MODIFIED:20230525T162554Z
UID:3228-1686726000-1686731400@wealdenbusinessgroup.co.uk
SUMMARY:Virginia Hodge - Tenterden Business and Tourism Officer
DESCRIPTION:The role focuses on provision of information\, support\, advice\, and guidance to Tenterden businesses and tourism organisations along with promotion of the town as a hub for local people\, visitors\, and tourists. \n\n\n\nA key aspect of the role will be the development of links with the borough council and with towns and villages in the surrounding district\, as well as being out and about meeting and getting to know the business community\, the social groups and charity organisations so that have an overarching understanding of their aims and ambitions.
URL:https://wealdenbusinessgroup.co.uk/event/virginia-hodge-tenterden-business-and-tourism-officer/
LOCATION:The White Lion\, High St\, Tenterden\, Kent\, TN30 6BD\, United Kingdom
CATEGORIES:Weekly Meeting
END:VEVENT
BEGIN:VEVENT
DTSTART;TZID=Europe/London:20230621T070000
DTEND;TZID=Europe/London:20230621T083000
DTSTAMP:20260422T151818
CREATED:20230608T104522Z
LAST-MODIFIED:20230608T104536Z
UID:3232-1687330800-1687336200@wealdenbusinessgroup.co.uk
SUMMARY:Gavin Baker - Potters Home Digital
DESCRIPTION:Experts in Home Technology – Potters provide unique Smart Home & entertainment solutions. \n\n\n\nWorking In Kent\, Sussex\, London and Beyond.     \n\n\n\nPotters Home Digital bring the latest technology\, with world leading brands and create intelligent integration systems to enhance both lifestyles and homes.
URL:https://wealdenbusinessgroup.co.uk/event/gavin-baker-potters-home-digital/
LOCATION:The White Lion\, High St\, Tenterden\, Kent\, TN30 6BD\, United Kingdom
CATEGORIES:Weekly Meeting
END:VEVENT
BEGIN:VEVENT
DTSTART;TZID=Europe/London:20230628T070000
DTEND;TZID=Europe/London:20230628T083000
DTSTAMP:20260422T151818
CREATED:20230622T104229Z
LAST-MODIFIED:20230622T104236Z
UID:3259-1687935600-1687941000@wealdenbusinessgroup.co.uk
SUMMARY:Members Discussion
DESCRIPTION:Wealden Business Group members’ discussion regarding the upcoming events and groups constitution and rules to date.
URL:https://wealdenbusinessgroup.co.uk/event/members-discussion/
LOCATION:The White Lion\, High St\, Tenterden\, Kent\, TN30 6BD\, United Kingdom
CATEGORIES:Weekly Meeting
END:VEVENT
END:VCALENDAR