BEGIN:VCALENDAR
VERSION:2.0
PRODID:-//The Wealden Business Group - ECPv6.15.20//NONSGML v1.0//EN
CALSCALE:GREGORIAN
METHOD:PUBLISH
X-WR-CALNAME:The Wealden Business Group
X-ORIGINAL-URL:https://wealdenbusinessgroup.co.uk
X-WR-CALDESC:Events for The Wealden Business Group
REFRESH-INTERVAL;VALUE=DURATION:PT1H
X-Robots-Tag:noindex
X-PUBLISHED-TTL:PT1H
BEGIN:VTIMEZONE
TZID:Europe/London
BEGIN:DAYLIGHT
TZOFFSETFROM:+0000
TZOFFSETTO:+0100
TZNAME:BST
DTSTART:20220327T010000
END:DAYLIGHT
BEGIN:STANDARD
TZOFFSETFROM:+0100
TZOFFSETTO:+0000
TZNAME:GMT
DTSTART:20221030T010000
END:STANDARD
BEGIN:DAYLIGHT
TZOFFSETFROM:+0000
TZOFFSETTO:+0100
TZNAME:BST
DTSTART:20230326T010000
END:DAYLIGHT
BEGIN:STANDARD
TZOFFSETFROM:+0100
TZOFFSETTO:+0000
TZNAME:GMT
DTSTART:20231029T010000
END:STANDARD
BEGIN:DAYLIGHT
TZOFFSETFROM:+0000
TZOFFSETTO:+0100
TZNAME:BST
DTSTART:20240331T010000
END:DAYLIGHT
BEGIN:STANDARD
TZOFFSETFROM:+0100
TZOFFSETTO:+0000
TZNAME:GMT
DTSTART:20241027T010000
END:STANDARD
END:VTIMEZONE
BEGIN:VEVENT
DTSTART;TZID=Europe/London:20230705T070000
DTEND;TZID=Europe/London:20230705T083000
DTSTAMP:20260422T135657
CREATED:20230705T053143Z
LAST-MODIFIED:20230705T094010Z
UID:3263-1688540400-1688545800@wealdenbusinessgroup.co.uk
SUMMARY:Andy Jenner - Simply Gardens
DESCRIPTION:Simply Gardens (Ashford) Ltd is a small family run business based in Ashford.  Andy presents to the members and guess about “Tips and Tricks” to improve your gardens.
URL:https://wealdenbusinessgroup.co.uk/event/andy-jenner-simply-gardens/
LOCATION:The White Lion\, High St\, Tenterden\, Kent\, TN30 6BD\, United Kingdom
CATEGORIES:Weekly Meeting
END:VEVENT
BEGIN:VEVENT
DTSTART;TZID=Europe/London:20230712T070000
DTEND;TZID=Europe/London:20230712T083000
DTSTAMP:20260422T135657
CREATED:20230705T093851Z
LAST-MODIFIED:20230705T093855Z
UID:3265-1689145200-1689150600@wealdenbusinessgroup.co.uk
SUMMARY:Oliver Kinsley -  The Grapevine Champagne & Jazz Bar
DESCRIPTION:The Grapevine Champagne & Jazz Bar is an intimate live music venue tucked under the bustling Rye High Street\, and Oliver talks about the special venue.
URL:https://wealdenbusinessgroup.co.uk/event/the-grapevine-champagne-jazz-bar/
LOCATION:The White Lion\, High St\, Tenterden\, Kent\, TN30 6BD\, United Kingdom
CATEGORIES:Weekly Meeting
END:VEVENT
BEGIN:VEVENT
DTSTART;TZID=Europe/London:20230719T070000
DTEND;TZID=Europe/London:20230719T083000
DTSTAMP:20260422T135657
CREATED:20230717T103622Z
LAST-MODIFIED:20230717T103627Z
UID:3275-1689750000-1689755400@wealdenbusinessgroup.co.uk
SUMMARY:Colman Carpenter - Four Lakes
DESCRIPTION:Colman is the proprietor of Four Lakes\, a web design company\, and a WBG member. In this week’s presentation Colman will describe the consideration needed in order to create a truly effective website page.
URL:https://wealdenbusinessgroup.co.uk/event/colman-carpenter-four-lakes-2/
LOCATION:The White Lion\, High St\, Tenterden\, Kent\, TN30 6BD\, United Kingdom
CATEGORIES:Weekly Meeting
END:VEVENT
BEGIN:VEVENT
DTSTART;TZID=Europe/London:20230726T070000
DTEND;TZID=Europe/London:20230726T083000
DTSTAMP:20260422T135657
CREATED:20230717T104226Z
LAST-MODIFIED:20230724T093858Z
UID:3277-1690354800-1690360200@wealdenbusinessgroup.co.uk
SUMMARY:Paul Brown of Next Level Services
DESCRIPTION:Paul will present to the members of Wealden Business Group about ‘Low Carbon Audits.’ \n\n\n\nPaul Brown is an entrepreneurial Business Mentor and Document Specialist working with clients in the SME sector. With over 25 years’ experience in senior management\, Paul’s experience includes 12 years as Group Managing Director of a computer sales\, fulfilment and finance company. \n\n\n\nIn recent years\, Paul has specialised in offering Grant and loan application services delivered throughout Kent. \n\n\n\nPaul is currently part of the Net Zero Team at the Kent Invicta Chamber of Commerce\, helping businesses with carbon audits for small businesses in Kent. \n\n\n\nThe inclusion of advising on and applying for a Lasting Power of Attorney (LPA) on behalf of clients is an addition to his portfolio of services.
URL:https://wealdenbusinessgroup.co.uk/event/paul-brown-next-level-services/
LOCATION:The White Lion\, High St\, Tenterden\, Kent\, TN30 6BD\, United Kingdom
CATEGORIES:Weekly Meeting
END:VEVENT
END:VCALENDAR