BEGIN:VCALENDAR
VERSION:2.0
PRODID:-//The Wealden Business Group - ECPv6.15.20//NONSGML v1.0//EN
CALSCALE:GREGORIAN
METHOD:PUBLISH
X-ORIGINAL-URL:https://wealdenbusinessgroup.co.uk
X-WR-CALDESC:Events for The Wealden Business Group
REFRESH-INTERVAL;VALUE=DURATION:PT1H
X-Robots-Tag:noindex
X-PUBLISHED-TTL:PT1H
BEGIN:VTIMEZONE
TZID:Europe/London
BEGIN:DAYLIGHT
TZOFFSETFROM:+0000
TZOFFSETTO:+0100
TZNAME:BST
DTSTART:20220327T010000
END:DAYLIGHT
BEGIN:STANDARD
TZOFFSETFROM:+0100
TZOFFSETTO:+0000
TZNAME:GMT
DTSTART:20221030T010000
END:STANDARD
BEGIN:DAYLIGHT
TZOFFSETFROM:+0000
TZOFFSETTO:+0100
TZNAME:BST
DTSTART:20230326T010000
END:DAYLIGHT
BEGIN:STANDARD
TZOFFSETFROM:+0100
TZOFFSETTO:+0000
TZNAME:GMT
DTSTART:20231029T010000
END:STANDARD
BEGIN:DAYLIGHT
TZOFFSETFROM:+0000
TZOFFSETTO:+0100
TZNAME:BST
DTSTART:20240331T010000
END:DAYLIGHT
BEGIN:STANDARD
TZOFFSETFROM:+0100
TZOFFSETTO:+0000
TZNAME:GMT
DTSTART:20241027T010000
END:STANDARD
END:VTIMEZONE
BEGIN:VEVENT
DTSTART;TZID=Europe/London:20230802T070000
DTEND;TZID=Europe/London:20230802T083000
DTSTAMP:20260422T123921
CREATED:20230717T105208Z
LAST-MODIFIED:20230717T105213Z
UID:3281-1690959600-1690965000@wealdenbusinessgroup.co.uk
SUMMARY:Graham Card – Card and Company (Commercial Finance) Ltd.
DESCRIPTION:Card and Company is a specialist independent commercial finance brokerage and logistics solutions provider\, operating since 1994 dealing mainly in the finance of receivables and asset based lending solutions for domestic and international situations.
URL:https://wealdenbusinessgroup.co.uk/event/graham-card-card-and-company-commercial-finance-ltd-2/
LOCATION:The White Lion\, High St\, Tenterden\, Kent\, TN30 6BD\, United Kingdom
CATEGORIES:Weekly Meeting
END:VEVENT
BEGIN:VEVENT
DTSTART;TZID=Europe/London:20230809T070000
DTEND;TZID=Europe/London:20230809T083000
DTSTAMP:20260422T123921
CREATED:20230717T104501Z
LAST-MODIFIED:20230807T111724Z
UID:3279-1691564400-1691569800@wealdenbusinessgroup.co.uk
SUMMARY:David Meredith - Busbys Chartered Accountants
DESCRIPTION:Busbys Chartered Accountants in Kent where the client always comes first. Amid all the changes in the business world in recent years\, one thing has remained unchanged – their commitment to their clients. \n\n\n\nAt Busbys they believe the client comes first\, and they strive in every respect to meet your needs and expectations. Whether it is traditional tax and accounting services or proactive business advisory services\, your personal Self Assessment return or your company’s strategic business plan\, David and his team approach the task with the precision and dedication you would expect from an established and highly trusted firm. Busbys are an independent professional firm offering a personal service and advice to both business and individuals in and around Kent\, including Central London and the Home Counties.
URL:https://wealdenbusinessgroup.co.uk/event/david-meredith-busbys-chartered-accountants-2/
LOCATION:The White Lion\, High St\, Tenterden\, Kent\, TN30 6BD\, United Kingdom
CATEGORIES:Weekly Meeting
END:VEVENT
BEGIN:VEVENT
DTSTART;TZID=Europe/London:20230816T070000
DTEND;TZID=Europe/London:20230816T083000
DTSTAMP:20260422T123921
CREATED:20230717T105543Z
LAST-MODIFIED:20230717T105552Z
UID:3283-1692169200-1692174600@wealdenbusinessgroup.co.uk
SUMMARY:Emilie Naiker - Your Virtual Assistant Solutions
DESCRIPTION:Supporting your business with social media and email marketing\n\n\n\nEmilie says “As a business owner\, I understand the challenges of running a business: so many hats to wear and not enough time in the day to do it all! \n\n\n\nMy job is to take care of the tasks that need doing\, so you can focus on growing your business. \n\n\n\nI know\, from experience\, that delegating is one of the hardest steps to take\, as a business owner.”
URL:https://wealdenbusinessgroup.co.uk/event/emilie-naiker-your-virtual-assistant-solutions/
LOCATION:The White Lion\, High St\, Tenterden\, Kent\, TN30 6BD\, United Kingdom
CATEGORIES:Weekly Meeting
END:VEVENT
BEGIN:VEVENT
DTSTART;TZID=Europe/London:20230823T070000
DTEND;TZID=Europe/London:20230823T083000
DTSTAMP:20260422T123921
CREATED:20230717T110455Z
LAST-MODIFIED:20230717T110510Z
UID:3285-1692774000-1692779400@wealdenbusinessgroup.co.uk
SUMMARY:WBG Book Review
DESCRIPTION:Reviewing the latest WBG book – “Monwalking with Einstein” by Joshua Foer. \n\n\n\nThe book is about the art and science of remembering everything.
URL:https://wealdenbusinessgroup.co.uk/event/wbg-book-review/
LOCATION:The White Lion\, High St\, Tenterden\, Kent\, TN30 6BD\, United Kingdom
CATEGORIES:Weekly Meeting
ATTACH;FMTTYPE=image/jpeg:https://wealdenbusinessgroup.co.uk/wp-content/uploads/2023/07/9780141032139-uk.jpg
END:VEVENT
BEGIN:VEVENT
DTSTART;TZID=Europe/London:20230830T070000
DTEND;TZID=Europe/London:20230830T083000
DTSTAMP:20260422T123921
CREATED:20230717T110713Z
LAST-MODIFIED:20230824T161912Z
UID:3288-1693378800-1693384200@wealdenbusinessgroup.co.uk
SUMMARY:Heather Worrall - Neurodivergency in the Workplace
DESCRIPTION:Heather Worrall is SENCO (Special Educational Needs Coordinator) at Oakwood Boys Grammar School in Maidstone. She will talk about how neurodivergency in the workplace can\, and should\, be catered for to ensure both employers and employees benefit.
URL:https://wealdenbusinessgroup.co.uk/event/heather-worrall-neurodivergency-in-the-workplace/
LOCATION:The White Lion\, High St\, Tenterden\, Kent\, TN30 6BD\, United Kingdom
CATEGORIES:Weekly Meeting
END:VEVENT
END:VCALENDAR