BEGIN:VCALENDAR
VERSION:2.0
PRODID:-//The Wealden Business Group - ECPv6.15.20//NONSGML v1.0//EN
CALSCALE:GREGORIAN
METHOD:PUBLISH
X-ORIGINAL-URL:https://wealdenbusinessgroup.co.uk
X-WR-CALDESC:Events for The Wealden Business Group
REFRESH-INTERVAL;VALUE=DURATION:PT1H
X-Robots-Tag:noindex
X-PUBLISHED-TTL:PT1H
BEGIN:VTIMEZONE
TZID:Europe/London
BEGIN:DAYLIGHT
TZOFFSETFROM:+0000
TZOFFSETTO:+0100
TZNAME:BST
DTSTART:20220327T010000
END:DAYLIGHT
BEGIN:STANDARD
TZOFFSETFROM:+0100
TZOFFSETTO:+0000
TZNAME:GMT
DTSTART:20221030T010000
END:STANDARD
BEGIN:DAYLIGHT
TZOFFSETFROM:+0000
TZOFFSETTO:+0100
TZNAME:BST
DTSTART:20230326T010000
END:DAYLIGHT
BEGIN:STANDARD
TZOFFSETFROM:+0100
TZOFFSETTO:+0000
TZNAME:GMT
DTSTART:20231029T010000
END:STANDARD
BEGIN:DAYLIGHT
TZOFFSETFROM:+0000
TZOFFSETTO:+0100
TZNAME:BST
DTSTART:20240331T010000
END:DAYLIGHT
BEGIN:STANDARD
TZOFFSETFROM:+0100
TZOFFSETTO:+0000
TZNAME:GMT
DTSTART:20241027T010000
END:STANDARD
END:VTIMEZONE
BEGIN:VEVENT
DTSTART;TZID=Europe/London:20231004T070000
DTEND;TZID=Europe/London:20231004T083000
DTSTAMP:20260422T110707
CREATED:20231002T153708Z
LAST-MODIFIED:20231002T153716Z
UID:3357-1696402800-1696408200@wealdenbusinessgroup.co.uk
SUMMARY:Tara Willington Mace - director at Kitchen Generator Ltd
DESCRIPTION:Tara and Darren set up Kitchen Generator Ltd in 2007 to manufacturer rigid kitchen carcasses. Since then the company has gone from strength to strength building on their already impressive reputation. Kitchen Generator Ltd offers various service levels tailored to suit their customer’s individual needs.
URL:https://wealdenbusinessgroup.co.uk/event/tara-willington-mace-director-at-kitchen-generator-ltd/
LOCATION:The White Lion\, High St\, Tenterden\, Kent\, TN30 6BD\, United Kingdom
CATEGORIES:Weekly Meeting
END:VEVENT
BEGIN:VEVENT
DTSTART;TZID=Europe/London:20231011T070000
DTEND;TZID=Europe/London:20231011T083000
DTSTAMP:20260422T110707
CREATED:20231010T132356Z
LAST-MODIFIED:20231010T132358Z
UID:3363-1697007600-1697013000@wealdenbusinessgroup.co.uk
SUMMARY:Bob Morgan – IT Planning
DESCRIPTION:IT Planning is a specialist IT Consultancy and Managed Service Provider that listens to the needs of your enterprise and develops strategies to keep your data secure and your business running. Data Security\, Data Backup\, Hosting\, Remote Support\, Small Business Networks.
URL:https://wealdenbusinessgroup.co.uk/event/bob-morgan-it-planning-2/
LOCATION:The White Lion\, High St\, Tenterden\, Kent\, TN30 6BD\, United Kingdom
CATEGORIES:Weekly Meeting
END:VEVENT
BEGIN:VEVENT
DTSTART;TZID=Europe/London:20231018T070000
DTEND;TZID=Europe/London:20231018T083000
DTSTAMP:20260422T110707
CREATED:20231010T132804Z
LAST-MODIFIED:20231010T132807Z
UID:3367-1697612400-1697617800@wealdenbusinessgroup.co.uk
SUMMARY:David Kemp – Little Silver Country Hotel
DESCRIPTION:Little Silver Country Hotel is a family owned hotel and wedding venue situated in beautiful Kent\, The Garden of England. \n\n\n\nWith excellent commuter links to London and across the channel\, The Little Silver is a fantastic location from which to explore the surrounding area of the Weald and the beauty beyond.
URL:https://wealdenbusinessgroup.co.uk/event/david-kemp-little-silver-country-hotel/
LOCATION:The White Lion\, High St\, Tenterden\, Kent\, TN30 6BD\, United Kingdom
CATEGORIES:Weekly Meeting
END:VEVENT
BEGIN:VEVENT
DTSTART;TZID=Europe/London:20231025T070000
DTEND;TZID=Europe/London:20231025T083000
DTSTAMP:20260422T110707
CREATED:20231011T161225Z
LAST-MODIFIED:20231016T102633Z
UID:3369-1698217200-1698222600@wealdenbusinessgroup.co.uk
SUMMARY:Darrienne Price - Business Support Manager
DESCRIPTION:Supporting businesses in New Romney and across Romney Marsh. Darrienne presents to the WBG about “The Business Jigsaw – fitting it all together”
URL:https://wealdenbusinessgroup.co.uk/event/darrienne-price-business-support-manager/
LOCATION:The White Lion\, High St\, Tenterden\, Kent\, TN30 6BD\, United Kingdom
CATEGORIES:Weekly Meeting
END:VEVENT
END:VCALENDAR