BEGIN:VCALENDAR
VERSION:2.0
PRODID:-//The Wealden Business Group - ECPv6.15.20//NONSGML v1.0//EN
CALSCALE:GREGORIAN
METHOD:PUBLISH
X-ORIGINAL-URL:https://wealdenbusinessgroup.co.uk
X-WR-CALDESC:Events for The Wealden Business Group
REFRESH-INTERVAL;VALUE=DURATION:PT1H
X-Robots-Tag:noindex
X-PUBLISHED-TTL:PT1H
BEGIN:VTIMEZONE
TZID:Europe/London
BEGIN:DAYLIGHT
TZOFFSETFROM:+0000
TZOFFSETTO:+0100
TZNAME:BST
DTSTART:20230326T010000
END:DAYLIGHT
BEGIN:STANDARD
TZOFFSETFROM:+0100
TZOFFSETTO:+0000
TZNAME:GMT
DTSTART:20231029T010000
END:STANDARD
BEGIN:DAYLIGHT
TZOFFSETFROM:+0000
TZOFFSETTO:+0100
TZNAME:BST
DTSTART:20240331T010000
END:DAYLIGHT
BEGIN:STANDARD
TZOFFSETFROM:+0100
TZOFFSETTO:+0000
TZNAME:GMT
DTSTART:20241027T010000
END:STANDARD
BEGIN:DAYLIGHT
TZOFFSETFROM:+0000
TZOFFSETTO:+0100
TZNAME:BST
DTSTART:20250330T010000
END:DAYLIGHT
BEGIN:STANDARD
TZOFFSETFROM:+0100
TZOFFSETTO:+0000
TZNAME:GMT
DTSTART:20251026T010000
END:STANDARD
END:VTIMEZONE
BEGIN:VEVENT
DTSTART;TZID=Europe/London:20240207T070000
DTEND;TZID=Europe/London:20240207T083000
DTSTAMP:20260420T043155
CREATED:20240202T153239Z
LAST-MODIFIED:20240202T153242Z
UID:3510-1707289200-1707294600@wealdenbusinessgroup.co.uk
SUMMARY:WBG Discussion
DESCRIPTION:This morning’s meeting will involve a member discussion on a number of topics \n\n\n\n\nNew part-time membership option\n\n\n\nWBG podcast\n\n\n\nUpcoming events\n\n\n\nCharity
URL:https://wealdenbusinessgroup.co.uk/event/wbg-discussion/
LOCATION:The White Lion\, High St\, Tenterden\, Kent\, TN30 6BD\, United Kingdom
CATEGORIES:Weekly Meeting
END:VEVENT
BEGIN:VEVENT
DTSTART;TZID=Europe/London:20240214T070000
DTEND;TZID=Europe/London:20240214T083000
DTSTAMP:20260420T043155
CREATED:20240108T122310Z
LAST-MODIFIED:20240206T124933Z
UID:3479-1707894000-1707899400@wealdenbusinessgroup.co.uk
SUMMARY:David Dicara - How a martial art can influence business thinking
DESCRIPTION:David Dicara – Toastmaster & Master of Ceremonies\, experienced in public speaking\, business training and coaching \n\n\n\nDavid says “I practised Kendo for eight years and during that time I became acutely aware of how much it helped me crystalise my thoughts about doing business. I will talk about this and a bit about the art itself – be prepared\, I may call for a volunteer!”
URL:https://wealdenbusinessgroup.co.uk/event/david-dicara-how-a-martial-art-can-influence-business-thinking/
LOCATION:The White Lion\, High St\, Tenterden\, Kent\, TN30 6BD\, United Kingdom
CATEGORIES:Weekly Meeting
END:VEVENT
BEGIN:VEVENT
DTSTART;TZID=Europe/London:20240221T070000
DTEND;TZID=Europe/London:20240221T083000
DTSTAMP:20260420T043155
CREATED:20240202T164157Z
LAST-MODIFIED:20240206T125022Z
UID:3511-1708498800-1708504200@wealdenbusinessgroup.co.uk
SUMMARY:Andy Peddle - ANP Security
DESCRIPTION:ANP Security is a company who offer the supply\, installation and maintenance on all aspects of security systems. With over twenty years’ of experience in the industry they offer a high-level of service and product knowledge.
URL:https://wealdenbusinessgroup.co.uk/event/andy-peddle-anp-security/
LOCATION:The White Lion\, High St\, Tenterden\, Kent\, TN30 6BD\, United Kingdom
CATEGORIES:Weekly Meeting
END:VEVENT
BEGIN:VEVENT
DTSTART;TZID=Europe/London:20240228T070000
DTEND;TZID=Europe/London:20240228T083000
DTSTAMP:20260420T043155
CREATED:20240223T085746Z
LAST-MODIFIED:20240223T085747Z
UID:3527-1709103600-1709109000@wealdenbusinessgroup.co.uk
SUMMARY:Sam Davey - Hinge & Bracket
DESCRIPTION:Hinge & Bracket Architectural Ironmongery is developing into a trusted and helpful consultancy. Grown out of the wealth of experience from the already well-established Hinges&Brackets retail stores\, it aims to provide its customers with the inspiration and on-hand guidance to ensure a project is a perfect setup of function and style.
URL:https://wealdenbusinessgroup.co.uk/event/sam-davey-hinge-bracket/
LOCATION:The White Lion\, High St\, Tenterden\, Kent\, TN30 6BD\, United Kingdom
CATEGORIES:Weekly Meeting
END:VEVENT
END:VCALENDAR