BEGIN:VCALENDAR
VERSION:2.0
PRODID:-//The Wealden Business Group - ECPv6.15.20//NONSGML v1.0//EN
CALSCALE:GREGORIAN
METHOD:PUBLISH
X-WR-CALNAME:The Wealden Business Group
X-ORIGINAL-URL:https://wealdenbusinessgroup.co.uk
X-WR-CALDESC:Events for The Wealden Business Group
REFRESH-INTERVAL;VALUE=DURATION:PT1H
X-Robots-Tag:noindex
X-PUBLISHED-TTL:PT1H
BEGIN:VTIMEZONE
TZID:Europe/London
BEGIN:DAYLIGHT
TZOFFSETFROM:+0000
TZOFFSETTO:+0100
TZNAME:BST
DTSTART:20230326T010000
END:DAYLIGHT
BEGIN:STANDARD
TZOFFSETFROM:+0100
TZOFFSETTO:+0000
TZNAME:GMT
DTSTART:20231029T010000
END:STANDARD
BEGIN:DAYLIGHT
TZOFFSETFROM:+0000
TZOFFSETTO:+0100
TZNAME:BST
DTSTART:20240331T010000
END:DAYLIGHT
BEGIN:STANDARD
TZOFFSETFROM:+0100
TZOFFSETTO:+0000
TZNAME:GMT
DTSTART:20241027T010000
END:STANDARD
BEGIN:DAYLIGHT
TZOFFSETFROM:+0000
TZOFFSETTO:+0100
TZNAME:BST
DTSTART:20250330T010000
END:DAYLIGHT
BEGIN:STANDARD
TZOFFSETFROM:+0100
TZOFFSETTO:+0000
TZNAME:GMT
DTSTART:20251026T010000
END:STANDARD
END:VTIMEZONE
BEGIN:VEVENT
DTSTART;TZID=Europe/London:20240306T070000
DTEND;TZID=Europe/London:20240306T083000
DTSTAMP:20260420T031153
CREATED:20240304T134213Z
LAST-MODIFIED:20240304T160528Z
UID:3535-1709708400-1709713800@wealdenbusinessgroup.co.uk
SUMMARY:Graham Card – Card and Company (Commercial Finance) Ltd.
DESCRIPTION:Card and Company is a specialist independent commercial finance brokerage and logistics solutions provider\, operating since 1994 dealing mainly in the finance of receivables and\, asset based lending solutions for domestic and international situations.
URL:https://wealdenbusinessgroup.co.uk/event/graham-card-card-and-company-commercial-finance-ltd-3/
LOCATION:The White Lion\, High St\, Tenterden\, Kent\, TN30 6BD\, United Kingdom
CATEGORIES:Weekly Meeting
END:VEVENT
BEGIN:VEVENT
DTSTART;TZID=Europe/London:20240313T070000
DTEND;TZID=Europe/London:20240313T083000
DTSTAMP:20260420T031153
CREATED:20240304T134516Z
LAST-MODIFIED:20240304T134518Z
UID:3542-1710313200-1710318600@wealdenbusinessgroup.co.uk
SUMMARY:David Meredith – principal at Busbys Chartered Accountants
DESCRIPTION:As Chartered Accountants\, Busbys  can offer you the reassurance that your financial affairs are dealt with properly\, promptly and in confidence. And also remember that if you want to keep those tax worries low\, Busbys is just the place to go. \n\n\n\nDavid presents the review of last week’s Spring budget to the members and guests of Wealden Business Group.
URL:https://wealdenbusinessgroup.co.uk/event/david-meredith-principal-at-busbys-chartered-accountants-2/
LOCATION:The White Lion\, High St\, Tenterden\, Kent\, TN30 6BD\, United Kingdom
CATEGORIES:Weekly Meeting
END:VEVENT
BEGIN:VEVENT
DTSTART;TZID=Europe/London:20240320T070000
DTEND;TZID=Europe/London:20240320T083000
DTSTAMP:20260420T031153
CREATED:20240304T134641Z
LAST-MODIFIED:20240304T134642Z
UID:3545-1710918000-1710923400@wealdenbusinessgroup.co.uk
SUMMARY:Bob Morgan - IT Planning
DESCRIPTION:IT Planning is a specialist IT Consultancy and Managed Service Provider that listens to the needs of your enterprise and develops strategies to keep your data secure and your business running.
URL:https://wealdenbusinessgroup.co.uk/event/bob-morgan-it-planning-3/
LOCATION:The White Lion\, High St\, Tenterden\, Kent\, TN30 6BD\, United Kingdom
CATEGORIES:Weekly Meeting
END:VEVENT
BEGIN:VEVENT
DTSTART;TZID=Europe/London:20240327T070000
DTEND;TZID=Europe/London:20240327T083000
DTSTAMP:20260420T031153
CREATED:20240312T125511Z
LAST-MODIFIED:20240312T130102Z
UID:3561-1711522800-1711528200@wealdenbusinessgroup.co.uk
SUMMARY:Chris Rawlinson - Grate Stoves & Fires
DESCRIPTION:Based in Ashford\, Grate Stoves & Fires helps to enrich your home with the warming flicker of flames and professional fitting throughout Kent
URL:https://wealdenbusinessgroup.co.uk/event/chris-rawlinson-grate-stoves-fires/
LOCATION:The White Lion\, High St\, Tenterden\, Kent\, TN30 6BD\, United Kingdom
CATEGORIES:Weekly Meeting
END:VEVENT
END:VCALENDAR