BEGIN:VCALENDAR
VERSION:2.0
PRODID:-//The Wealden Business Group - ECPv6.15.20//NONSGML v1.0//EN
CALSCALE:GREGORIAN
METHOD:PUBLISH
X-WR-CALNAME:The Wealden Business Group
X-ORIGINAL-URL:https://wealdenbusinessgroup.co.uk
X-WR-CALDESC:Events for The Wealden Business Group
REFRESH-INTERVAL;VALUE=DURATION:PT1H
X-Robots-Tag:noindex
X-PUBLISHED-TTL:PT1H
BEGIN:VTIMEZONE
TZID:Europe/London
BEGIN:DAYLIGHT
TZOFFSETFROM:+0000
TZOFFSETTO:+0100
TZNAME:BST
DTSTART:20230326T010000
END:DAYLIGHT
BEGIN:STANDARD
TZOFFSETFROM:+0100
TZOFFSETTO:+0000
TZNAME:GMT
DTSTART:20231029T010000
END:STANDARD
BEGIN:DAYLIGHT
TZOFFSETFROM:+0000
TZOFFSETTO:+0100
TZNAME:BST
DTSTART:20240331T010000
END:DAYLIGHT
BEGIN:STANDARD
TZOFFSETFROM:+0100
TZOFFSETTO:+0000
TZNAME:GMT
DTSTART:20241027T010000
END:STANDARD
BEGIN:DAYLIGHT
TZOFFSETFROM:+0000
TZOFFSETTO:+0100
TZNAME:BST
DTSTART:20250330T010000
END:DAYLIGHT
BEGIN:STANDARD
TZOFFSETFROM:+0100
TZOFFSETTO:+0000
TZNAME:GMT
DTSTART:20251026T010000
END:STANDARD
END:VTIMEZONE
BEGIN:VEVENT
DTSTART;TZID=Europe/London:20240501T070000
DTEND;TZID=Europe/London:20240501T083000
DTSTAMP:20260420T001830
CREATED:20240325T114232Z
LAST-MODIFIED:20240325T114314Z
UID:3579-1714546800-1714552200@wealdenbusinessgroup.co.uk
SUMMARY:Bill Dane - Bill Dane Estate Agent
DESCRIPTION:Bill is well-known in the industry for providing a thoroughly personalised one-on-one service to his clients\, from their initial thoughts of buying and selling\, right through to the day of completion. He offers what portals like Rightmove and Zoopla can’t – an insight into what’s coming on to the market\, not just what is currently available; if anyone knows where your perfect property is hiding\, it’s Bill.
URL:https://wealdenbusinessgroup.co.uk/event/bill-dane-bill-dane-estate-agent/
LOCATION:The White Lion\, High St\, Tenterden\, Kent\, TN30 6BD\, United Kingdom
CATEGORIES:Weekly Meeting
END:VEVENT
BEGIN:VEVENT
DTSTART;TZID=Europe/London:20240508T070000
DTEND;TZID=Europe/London:20240508T083000
DTSTAMP:20260420T001830
CREATED:20240502T090411Z
LAST-MODIFIED:20240502T090413Z
UID:3607-1715151600-1715157000@wealdenbusinessgroup.co.uk
SUMMARY:CARM Cheque Presentation
DESCRIPTION:CARM (Caring Altogether on Romney Marsh) is the chosen charity of WBG for 2023/24\, and we are delighted to welcome back Victoria Carmichael to give us an update on CARM’s activities and to present her with the cheque for the monies raised during the past year.
URL:https://wealdenbusinessgroup.co.uk/event/carm-cheque-presentation/
LOCATION:The White Lion\, High St\, Tenterden\, Kent\, TN30 6BD\, United Kingdom
CATEGORIES:Weekly Meeting
END:VEVENT
BEGIN:VEVENT
DTSTART;TZID=Europe/London:20240515T070000
DTEND;TZID=Europe/London:20240515T083000
DTSTAMP:20260420T001830
CREATED:20240509T084957Z
LAST-MODIFIED:20240509T084959Z
UID:3612-1715756400-1715761800@wealdenbusinessgroup.co.uk
SUMMARY:Corinne Pardey - Corinne Pardey Photography
DESCRIPTION:Corinne has done photography as a hobby since the age of 15. Just starting with random objects around the house and the various flowers in the garden it soon became linked with her fascination with the natural world around her and drew her into becoming a wildlife photographer. Corinne presents to the members and guest of Wealden Business Group regarding her experiences and what she now offers.
URL:https://wealdenbusinessgroup.co.uk/event/corinne-pardey-photography/
LOCATION:The White Lion\, High St\, Tenterden\, Kent\, TN30 6BD\, United Kingdom
CATEGORIES:Weekly Meeting
END:VEVENT
BEGIN:VEVENT
DTSTART;TZID=Europe/London:20240522T070000
DTEND;TZID=Europe/London:20240522T083000
DTSTAMP:20260420T001830
CREATED:20240507T090120Z
LAST-MODIFIED:20240507T090122Z
UID:3610-1716361200-1716366600@wealdenbusinessgroup.co.uk
SUMMARY:Dave Naylor - Harvey Water Softeners
DESCRIPTION:When you invest in a Harvey™ Water Softener you’re in good hands. We’re committed to providing the best service and product possible for you. From the first phone call\, right through to the after service we will keep you informed and respond to your enquiries and questions swiftly.
URL:https://wealdenbusinessgroup.co.uk/event/dave-naylor-harvey-water-softeners/
LOCATION:The White Lion\, High St\, Tenterden\, Kent\, TN30 6BD\, United Kingdom
CATEGORIES:Weekly Meeting
END:VEVENT
BEGIN:VEVENT
DTSTART;TZID=Europe/London:20240529T070000
DTEND;TZID=Europe/London:20240529T083000
DTSTAMP:20260420T001830
CREATED:20240521T160055Z
LAST-MODIFIED:20240521T160057Z
UID:3637-1716966000-1716971400@wealdenbusinessgroup.co.uk
SUMMARY:Book Review - Bill Ferguson
DESCRIPTION:The New One Minute Manager\, based on the all-time number 1 bestseller by Ken Blanchard and Spencer Johnson.
URL:https://wealdenbusinessgroup.co.uk/event/book-review-bill-ferguson-2/
LOCATION:The White Lion\, High St\, Tenterden\, Kent\, TN30 6BD\, United Kingdom
CATEGORIES:Weekly Meeting
END:VEVENT
END:VCALENDAR