BEGIN:VCALENDAR
VERSION:2.0
PRODID:-//The Wealden Business Group - ECPv6.15.20//NONSGML v1.0//EN
CALSCALE:GREGORIAN
METHOD:PUBLISH
X-ORIGINAL-URL:https://wealdenbusinessgroup.co.uk
X-WR-CALDESC:Events for The Wealden Business Group
REFRESH-INTERVAL;VALUE=DURATION:PT1H
X-Robots-Tag:noindex
X-PUBLISHED-TTL:PT1H
BEGIN:VTIMEZONE
TZID:Europe/London
BEGIN:DAYLIGHT
TZOFFSETFROM:+0000
TZOFFSETTO:+0100
TZNAME:BST
DTSTART:20230326T010000
END:DAYLIGHT
BEGIN:STANDARD
TZOFFSETFROM:+0100
TZOFFSETTO:+0000
TZNAME:GMT
DTSTART:20231029T010000
END:STANDARD
BEGIN:DAYLIGHT
TZOFFSETFROM:+0000
TZOFFSETTO:+0100
TZNAME:BST
DTSTART:20240331T010000
END:DAYLIGHT
BEGIN:STANDARD
TZOFFSETFROM:+0100
TZOFFSETTO:+0000
TZNAME:GMT
DTSTART:20241027T010000
END:STANDARD
BEGIN:DAYLIGHT
TZOFFSETFROM:+0000
TZOFFSETTO:+0100
TZNAME:BST
DTSTART:20250330T010000
END:DAYLIGHT
BEGIN:STANDARD
TZOFFSETFROM:+0100
TZOFFSETTO:+0000
TZNAME:GMT
DTSTART:20251026T010000
END:STANDARD
END:VTIMEZONE
BEGIN:VEVENT
DTSTART;TZID=Europe/London:20240703T070000
DTEND;TZID=Europe/London:20240703T083000
DTSTAMP:20260419T213640
CREATED:20240627T160710Z
LAST-MODIFIED:20240628T143359Z
UID:3692-1719990000-1719995400@wealdenbusinessgroup.co.uk
SUMMARY:Joanne Osborne – principal at Scarlett Financial Services
DESCRIPTION:Prepare for the Mortgage Myth Buster Quiz! \n\n\n\nScarlett Financial Services has been set up to provide business and individual clients with mortgages and insurance\, predicated on four key values – Trust\, Care\, Communication and Advice.
URL:https://wealdenbusinessgroup.co.uk/event/joanne-osborne-principal-at-scarlett-financial-services/
LOCATION:The White Lion\, High St\, Tenterden\, Kent\, TN30 6BD\, United Kingdom
CATEGORIES:Weekly Meeting
END:VEVENT
BEGIN:VEVENT
DTSTART;TZID=Europe/London:20240710T070000
DTEND;TZID=Europe/London:20240710T083000
DTSTAMP:20260419T213640
CREATED:20240521T171301Z
LAST-MODIFIED:20240521T171306Z
UID:3639-1720594800-1720600200@wealdenbusinessgroup.co.uk
SUMMARY:Take-off - WBG Charity for 2024/25
DESCRIPTION:Co-CEOs Ellie Williams and Wayne Smith join the breakfast meeting to tell the group about the important work Take-Off are carrying out in East Kent\, support people with a range of mental heath issues. Their support model is different to many charities\, with all groups being run by people with the mental health condition that is being supported.
URL:https://wealdenbusinessgroup.co.uk/event/take-off-wbg-charity-for-2024-25/
LOCATION:The White Lion\, High St\, Tenterden\, Kent\, TN30 6BD\, United Kingdom
CATEGORIES:Weekly Meeting
END:VEVENT
BEGIN:VEVENT
DTSTART;TZID=Europe/London:20240717T070000
DTEND;TZID=Europe/London:20240717T083000
DTSTAMP:20260419T213640
CREATED:20240513T141453Z
LAST-MODIFIED:20240716T172404Z
UID:3614-1721199600-1721205000@wealdenbusinessgroup.co.uk
SUMMARY:Bob Morgan - IT Planning
DESCRIPTION:As a small business\, IT Planning understands the needs of similar-sized enterprises to ensure their IT systems run smoothly without breaking the bank. \n\n\n\nThey’re particularly proud of their great and friendly customer service. They give sound\, straightforward advice\, in plain English\, on all issues. They outline and go through the technical pros and cons of any project or installation you might be considering.
URL:https://wealdenbusinessgroup.co.uk/event/bob-morgan-it-planning-4/
LOCATION:The White Lion\, High St\, Tenterden\, Kent\, TN30 6BD\, United Kingdom
CATEGORIES:Weekly Meeting
END:VEVENT
BEGIN:VEVENT
DTSTART;TZID=Europe/London:20240724T070000
DTEND;TZID=Europe/London:20240724T083000
DTSTAMP:20260419T213640
CREATED:20240717T160045Z
LAST-MODIFIED:20240717T160047Z
UID:3740-1721804400-1721809800@wealdenbusinessgroup.co.uk
SUMMARY:Mark Henderson - Henderson’s Letting and Management
DESCRIPTION:At Henderson’s\, we understand the importance of finding the perfect property or tenant\, which is why we focus on building lasting relationships with our clients. \n\n\n\nWith a strong emphasis on customer satisfaction\, we go above and beyond to meet your specific needs and protect your investment interests.
URL:https://wealdenbusinessgroup.co.uk/event/mark-henderson-hendersons-letting-and-management/
LOCATION:The White Lion\, High St\, Tenterden\, Kent\, TN30 6BD\, United Kingdom
CATEGORIES:Weekly Meeting
END:VEVENT
BEGIN:VEVENT
DTSTART;TZID=Europe/London:20240731T070000
DTEND;TZID=Europe/London:20240731T083000
DTSTAMP:20260419T213640
CREATED:20240716T172530Z
LAST-MODIFIED:20240716T172532Z
UID:3732-1722409200-1722414600@wealdenbusinessgroup.co.uk
SUMMARY:Paul Ryley - Tenterden and District Museum
DESCRIPTION:The museum was opened in 1976 and is run entirely by volunteers. It is an Arts Council accredited museum and a member of the Wheels of Time initiative
URL:https://wealdenbusinessgroup.co.uk/event/paul-ryley-tenterden-and-district-museum/
LOCATION:The White Lion\, High St\, Tenterden\, Kent\, TN30 6BD\, United Kingdom
CATEGORIES:Weekly Meeting
END:VEVENT
END:VCALENDAR