BEGIN:VCALENDAR
VERSION:2.0
PRODID:-//The Wealden Business Group - ECPv6.15.20//NONSGML v1.0//EN
CALSCALE:GREGORIAN
METHOD:PUBLISH
X-ORIGINAL-URL:https://wealdenbusinessgroup.co.uk
X-WR-CALDESC:Events for The Wealden Business Group
REFRESH-INTERVAL;VALUE=DURATION:PT1H
X-Robots-Tag:noindex
X-PUBLISHED-TTL:PT1H
BEGIN:VTIMEZONE
TZID:Europe/London
BEGIN:DAYLIGHT
TZOFFSETFROM:+0000
TZOFFSETTO:+0100
TZNAME:BST
DTSTART:20230326T010000
END:DAYLIGHT
BEGIN:STANDARD
TZOFFSETFROM:+0100
TZOFFSETTO:+0000
TZNAME:GMT
DTSTART:20231029T010000
END:STANDARD
BEGIN:DAYLIGHT
TZOFFSETFROM:+0000
TZOFFSETTO:+0100
TZNAME:BST
DTSTART:20240331T010000
END:DAYLIGHT
BEGIN:STANDARD
TZOFFSETFROM:+0100
TZOFFSETTO:+0000
TZNAME:GMT
DTSTART:20241027T010000
END:STANDARD
BEGIN:DAYLIGHT
TZOFFSETFROM:+0000
TZOFFSETTO:+0100
TZNAME:BST
DTSTART:20250330T010000
END:DAYLIGHT
BEGIN:STANDARD
TZOFFSETFROM:+0100
TZOFFSETTO:+0000
TZNAME:GMT
DTSTART:20251026T010000
END:STANDARD
END:VTIMEZONE
BEGIN:VEVENT
DTSTART;TZID=Europe/London:20240807T070000
DTEND;TZID=Europe/London:20240807T083000
DTSTAMP:20260419T200955
CREATED:20240716T172831Z
LAST-MODIFIED:20240716T172833Z
UID:3734-1723014000-1723019400@wealdenbusinessgroup.co.uk
SUMMARY:Jennifer Kent
DESCRIPTION:Jennifer is known as the most sought-after MC and corporate event host in the South East. She is famous for the smooth running of large scale events\, that run on time and leave your guests impressed – without the cheesy jokes and a smarmy cruise-ship persona. Get ready for the wow!
URL:https://wealdenbusinessgroup.co.uk/event/jennifer-kent/
LOCATION:The White Lion\, High St\, Tenterden\, Kent\, TN30 6BD\, United Kingdom
CATEGORIES:Weekly Meeting
END:VEVENT
BEGIN:VEVENT
DTSTART;TZID=Europe/London:20240814T070000
DTEND;TZID=Europe/London:20240814T083000
DTSTAMP:20260419T200955
CREATED:20240703T155326Z
LAST-MODIFIED:20240809T111134Z
UID:3705-1723618800-1723624200@wealdenbusinessgroup.co.uk
SUMMARY:Heather Carpenter - Lost in Information
DESCRIPTION:Delving into a topic that affects us all\, but teens and young adults in particular.
URL:https://wealdenbusinessgroup.co.uk/event/heather-carpenter-lost-in-information/
LOCATION:The White Lion\, High St\, Tenterden\, Kent\, TN30 6BD\, United Kingdom
CATEGORIES:Weekly Meeting
END:VEVENT
BEGIN:VEVENT
DTSTART;TZID=Europe/London:20240817T160000
DTEND;TZID=Europe/London:20240817T200000
DTSTAMP:20260419T200955
CREATED:20240710T140923Z
LAST-MODIFIED:20240710T141226Z
UID:3710-1723910400-1723924800@wealdenbusinessgroup.co.uk
SUMMARY:25th Anniversary Garden Party
DESCRIPTION:Celebrating 25 years of the Wealden Business Group\n\n\n\n\n\n\n\n \n\n\n\nWe are one of the longest running business networking groups in the UK\, and to celebrate our 25th year we are having a very special garden party at one of Tenterden’s best social venues – The Print House. Come join us for an afternoon of chat\, connections and very lovely food…. \n\n\n\n\nSummer boards\n\n\n\nCheese boards\n\n\n\nVegan boards\n\n\n\nCharcuterie boards\n\n\n\nSeacuterie boards\n\n\n\n\nAll followed by a selection of amuse bouche desserts. \n\n\n\nOf course there will be a bar where you can choose from a wide selection of beers\, wines\, spirits and non-alcoholic drinks. \n\n\n\nRaffle\n\n\n\nIn addition to the food and drink\, we will also run a charity raffle for a very special prize on the day\, so make sure you bring some cash with you! Our chosen charity for this year is Take Off \n\n\n\nPlease email Tara if you wish to purchase tickets.
URL:https://wealdenbusinessgroup.co.uk/event/25th-anniversary-garden-party/
LOCATION:The Print House\, 11 West Cross\, Tenterden\, Kent\, TN30 6JR\, United Kingdom
CATEGORIES:Social Event
ATTACH;FMTTYPE=image/jpeg:https://wealdenbusinessgroup.co.uk/wp-content/uploads/2024/07/WBG-25th-party.jpg
END:VEVENT
BEGIN:VEVENT
DTSTART;TZID=Europe/London:20240821T070000
DTEND;TZID=Europe/London:20240821T083000
DTSTAMP:20260419T200955
CREATED:20240807T084405Z
LAST-MODIFIED:20240809T111217Z
UID:3743-1724223600-1724229000@wealdenbusinessgroup.co.uk
SUMMARY:Martin Tickner - Pension Terminology
DESCRIPTION:Martin Tickner of Financial Choices is a financial adviser based in Kent. Advice is provided to both individuals and companies on all aspects of financial planning\, through a long term approach of fully understanding clients’ needs\, wants and aspirations and then prioritising objectives. \n\n\n\nMartin’s presentation to the guests and members of Wealden Business Group will be entitled “Pension Terminology”
URL:https://wealdenbusinessgroup.co.uk/event/martin-tickner-pension-terminology/
LOCATION:The White Lion\, High St\, Tenterden\, Kent\, TN30 6BD\, United Kingdom
CATEGORIES:Weekly Meeting
END:VEVENT
BEGIN:VEVENT
DTSTART;TZID=Europe/London:20240828T070000
DTEND;TZID=Europe/London:20240828T083000
DTSTAMP:20260419T200955
CREATED:20240822T113135Z
LAST-MODIFIED:20240822T113137Z
UID:3768-1724828400-1724833800@wealdenbusinessgroup.co.uk
SUMMARY:Mike Taylor - Reflections
DESCRIPTION:Ex-member Mike Taylor returns to WBG with the theme of ‘Reflections’
URL:https://wealdenbusinessgroup.co.uk/event/mike-taylor-reflections/
LOCATION:The White Lion\, High St\, Tenterden\, Kent\, TN30 6BD\, United Kingdom
CATEGORIES:Weekly Meeting
END:VEVENT
END:VCALENDAR