BEGIN:VCALENDAR
VERSION:2.0
PRODID:-//The Wealden Business Group - ECPv6.15.20//NONSGML v1.0//EN
CALSCALE:GREGORIAN
METHOD:PUBLISH
X-WR-CALNAME:The Wealden Business Group
X-ORIGINAL-URL:https://wealdenbusinessgroup.co.uk
X-WR-CALDESC:Events for The Wealden Business Group
REFRESH-INTERVAL;VALUE=DURATION:PT1H
X-Robots-Tag:noindex
X-PUBLISHED-TTL:PT1H
BEGIN:VTIMEZONE
TZID:Europe/London
BEGIN:DAYLIGHT
TZOFFSETFROM:+0000
TZOFFSETTO:+0100
TZNAME:BST
DTSTART:20230326T010000
END:DAYLIGHT
BEGIN:STANDARD
TZOFFSETFROM:+0100
TZOFFSETTO:+0000
TZNAME:GMT
DTSTART:20231029T010000
END:STANDARD
BEGIN:DAYLIGHT
TZOFFSETFROM:+0000
TZOFFSETTO:+0100
TZNAME:BST
DTSTART:20240331T010000
END:DAYLIGHT
BEGIN:STANDARD
TZOFFSETFROM:+0100
TZOFFSETTO:+0000
TZNAME:GMT
DTSTART:20241027T010000
END:STANDARD
BEGIN:DAYLIGHT
TZOFFSETFROM:+0000
TZOFFSETTO:+0100
TZNAME:BST
DTSTART:20250330T010000
END:DAYLIGHT
BEGIN:STANDARD
TZOFFSETFROM:+0100
TZOFFSETTO:+0000
TZNAME:GMT
DTSTART:20251026T010000
END:STANDARD
END:VTIMEZONE
BEGIN:VEVENT
DTSTART;TZID=Europe/London:20241002T070000
DTEND;TZID=Europe/London:20241002T083000
DTSTAMP:20260419T172125
CREATED:20241001T145523Z
LAST-MODIFIED:20241002T131927Z
UID:3811-1727852400-1727857800@wealdenbusinessgroup.co.uk
SUMMARY:Mike Parmar - Wave2 Communications
DESCRIPTION:Wave2 Communications is an independent UK based communications company that specialises in Telecoms Solutions. With experience drawn from both Public and Private sectors we strive to meet the needs of businesses from all over the UK. \n\n\n\nHelp to improve business communications. \n\n\n\nLowering the cost of your voice and data communications without compromising service \n\n\n\nYour own personal account manager.
URL:https://wealdenbusinessgroup.co.uk/event/mike-parmar-wave2-communications/
LOCATION:The White Lion\, High St\, Tenterden\, Kent\, TN30 6BD\, United Kingdom
CATEGORIES:Weekly Meeting
END:VEVENT
BEGIN:VEVENT
DTSTART;TZID=Europe/London:20241009T070000
DTEND;TZID=Europe/London:20241009T083000
DTSTAMP:20260419T172125
CREATED:20241001T150404Z
LAST-MODIFIED:20241002T132004Z
UID:3814-1728457200-1728462600@wealdenbusinessgroup.co.uk
SUMMARY:Tim Clarke - AC Electricals (UK) Limited
DESCRIPTION:For a personal and professional service choose AC Electricals UK Ltd.
URL:https://wealdenbusinessgroup.co.uk/event/tim-clarke-ac-electricals-uk-limited/
LOCATION:The White Lion\, High St\, Tenterden\, Kent\, TN30 6BD\, United Kingdom
CATEGORIES:Weekly Meeting
END:VEVENT
BEGIN:VEVENT
DTSTART;TZID=Europe/London:20241016T070000
DTEND;TZID=Europe/London:20241016T083000
DTSTAMP:20260419T172125
CREATED:20241002T141030Z
LAST-MODIFIED:20241009T141345Z
UID:3837-1729062000-1729067400@wealdenbusinessgroup.co.uk
SUMMARY:Anthony Groves - DC Groves & Son
DESCRIPTION:D.C. Groves & Son is a long established family run business operating to the highest standards in domestic and Worldwide removals.
URL:https://wealdenbusinessgroup.co.uk/event/anthony-groves-dc-groves-son-2/
LOCATION:The White Lion\, High St\, Tenterden\, Kent\, TN30 6BD\, United Kingdom
CATEGORIES:Weekly Meeting
END:VEVENT
BEGIN:VEVENT
DTSTART;TZID=Europe/London:20241023T070000
DTEND;TZID=Europe/London:20241023T083000
DTSTAMP:20260419T172125
CREATED:20241001T150827Z
LAST-MODIFIED:20241002T140501Z
UID:3818-1729666800-1729672200@wealdenbusinessgroup.co.uk
SUMMARY:Chris Falby - Partnership Invoice Finance
DESCRIPTION:Partnership Invoice Finance offers invoice finance to start-ups\, SMEs and those requiring funding up to and in the region of £1\,000\,000
URL:https://wealdenbusinessgroup.co.uk/event/chris-falby-partnership-invoice-finance/
LOCATION:The White Lion\, High St\, Tenterden\, Kent\, TN30 6BD\, United Kingdom
CATEGORIES:Weekly Meeting
END:VEVENT
BEGIN:VEVENT
DTSTART;TZID=Europe/London:20241030T070000
DTEND;TZID=Europe/London:20241030T083000
DTSTAMP:20260419T172125
CREATED:20241002T140335Z
LAST-MODIFIED:20241002T140428Z
UID:3829-1730271600-1730277000@wealdenbusinessgroup.co.uk
SUMMARY:Book Review - Bill Ferguson
DESCRIPTION:Just One Thing\, by Dr Michael Mosley. How simple changes can transform your life.
URL:https://wealdenbusinessgroup.co.uk/event/book-review-bill-ferguson-3/
LOCATION:The White Lion\, High St\, Tenterden\, Kent\, TN30 6BD\, United Kingdom
CATEGORIES:Weekly Meeting
ATTACH;FMTTYPE=image/jpeg:https://wealdenbusinessgroup.co.uk/wp-content/uploads/2024/10/just-one-thing.jpg
END:VEVENT
END:VCALENDAR